Workbook

Sheet 2022级拟推免学生情况统计表
A1: 弘深学院2022级拟推免学生情况统计表
A2: 序号 | B2: 姓 名 | C2: 学号 | D2: 班级名称 | E2: 无不及格记录 | F2: 满足科创条件 | G2: 满足英语条件 | H2: 满足国际化条件 | I2: 学分绩点 | J2: 学分绩点 | K2: 加分 | L2: 综合绩点
A3: 1 | B3: 周其星 | C3: 20223396 | D3: 计算机拔尖班 | E3: 是 | F3: 是 | G3: 是 | H3: 是 | I3: =VLOOKUP(B3,[1]绩点!$A$3:$H$86,4,0) -> 3.7736 | J3: 3.7736 | K3: 0.4 | L3: =I3+K3 -> 4.1736
A4: 2 | B4: 郑梦仁 | C4: 20223714 | D4: 计算机拔尖班 | E4: 是 | F4: 是 | G4: 是 | H4: 是 | I4: =VLOOKUP(B4,[1]绩点!$A$3:$H$86,4,0) -> 3.8794 | J4: 3.8794 | K4: 0.225 | L4: =I4+K4 -> 4.1044
A5: 3 | B5: 朱云哲 | C5: 20224700 | D5: 计算机拔尖班 | E5: 是 | F5: 是 | G5: 是 | H5: 是 | I5: =VLOOKUP(B5,[1]绩点!$A$3:$H$86,4,0) -> 3.8246 | J5: 3.8246 | K5: 0.2 | L5: =I5+K5 -> 4.0246
A6: 4 | B6: 朱哲赟 | C6: 20224719 | D6: 计算机拔尖班 | E6: 是 | F6: 是 | G6: 是 | H6: 是 | I6: =VLOOKUP(B6,[1]绩点!$A$3:$H$86,4,0) -> 3.7176 | J6: 3.7176 | K6: 0.3 | L6: =I6+K6 -> 4.0176
A7: 5 | B7: 敖翔 | C7: 20221056 | D7: 计算机拔尖班 | E7: 是 | F7: 是 | G7: 是 | H7: 是 | I7: =VLOOKUP(B7,[1]绩点!$A$3:$H$86,4,0) -> 3.6673 | J7: 3.6673 | K7: 0.3 | L7: =I7+K7 -> 3.9673
A8: 6 | B8: 鲁永卓 | C8: 20221570 | D8: 计算机拔尖班 | E8: 是 | F8: 是 | G8: 是 | H8: 是 | I8: =VLOOKUP(B8,[1]绩点!$A$3:$H$86,4,0) -> 3.7539 | J8: 3.7539 | K8: 0.2 | L8: =I8+K8 -> 3.9539
A9: 7 | B9: 周冉 | C9: 20223028 | D9: 计算机拔尖班 | E9: 是 | F9: 是 | G9: 是 | H9: 是 | I9: =VLOOKUP(B9,[1]绩点!$A$3:$H$86,4,0) -> 3.7421 | J9: 3.7421 | K9: 0.2 | L9: =I9+K9 -> 3.9421
A10: 8 | B10: 张腾 | C10: 20222392 | D10: 计算机拔尖班 | E10: 是 | F10: 是 | G10: 是 | H10: 是 | I10: =VLOOKUP(B10,[1]绩点!$A$3:$H$86,4,0) -> 3.7646 | J10: 3.7646 | K10: 0.15 | L10: =I10+K10 -> 3.9146
A11: 9 | B11: 王龙祥 | C11: 20223610 | D11: 计算机拔尖班 | E11: 是 | F11: 是 | G11: 是 | H11: 是 | I11: =VLOOKUP(B11,[1]绩点!$A$3:$H$86,4,0) -> 3.7874 | J11: 3.7874 | K11: 0.05 | L11: =I11+K11 -> 3.8374
A12: 10 | B12: 屈瑾瑜 | C12: 20221337 | D12: 计算机拔尖班 | E12: 是 | F12: 是 | G12: 是 | H12: 是 | I12: =VLOOKUP(B12,[1]绩点!$A$3:$H$86,4,0) -> 3.7543 | J12: 3.7543 | K12: 0.05 | L12: =I12+K12 -> 3.8043
A13: 11 | B13: 牛宇威 | C13: 20225247 | D13: 计算机拔尖班 | E13: 是 | F13: 是 | G13: 是 | H13: 是 | I13: 3.504 | J13: 3.504 | K13: 0.3 | L13: =I13+K13 -> 3.804
A14: 12 | B14: 刘明星 | C14: 20224941 | D14: 计算机拔尖班 | E14: 是 | F14: 是 | G14: 是 | H14: 是 | I14: =VLOOKUP(B14,[1]绩点!$A$3:$H$86,4,0) -> 3.7338 | J14: 3.7338 | K14: 0.05 | L14: =I14+K14 -> 3.7838
A15: 13 | B15: 许瑞杰 | C15: 20224903 | D15: 计算机拔尖班 | E15: 是 | F15: 是 | G15: 是 | H15: 是 | I15: =VLOOKUP(B15,[1]绩点!$A$3:$H$86,4,0) -> 3.5711 | J15: 3.5711 | K15: 0.2 | L15: =I15+K15 -> 3.7711
A16: 14 | B16: 胡芸铭 | C16: 20220592 | D16: 计算机拔尖班 | E16: 是 | F16: 是 | G16: 是 | H16: 是 | I16: =VLOOKUP(B16,[1]绩点!$A$3:$H$86,4,0) -> 3.6469 | J16: 3.6469 | K16: 0.1 | L16: =I16+K16 -> 3.7469
A17: 15 | B17: 葛轩铭 | C17: 20220554 | D17: 计算机拔尖班 | E17: 是 | F17: 是 | G17: 是 | H17: 是 | I17: =VLOOKUP(B17,[1]绩点!$A$3:$H$86,4,0) -> 3.5953 | J17: 3.5953 | K17: 0.15 | L17: =I17+K17 -> 3.7453
A18: 16 | B18: 陈泆君 | C18: 20221057 | D18: 计算机拔尖班 | E18: 是 | F18: 是 | G18: 是 | H18: 是 | I18: =VLOOKUP(B18,[1]绩点!$A$3:$H$86,4,0) -> 3.4872 | J18: 3.4872 | K18: 0.2 | L18: =I18+K18 -> 3.6872
A19: 17 | B19: 周昕 | C19: 20224507 | D19: 计算机拔尖班 | E19: 是 | F19: 是 | G19: 是 | H19: 是 | I19: =VLOOKUP(B19,[1]绩点!$A$3:$H$86,4,0) -> 3.4619 | J19: 3.4619 | K19: 0.1 | L19: =I19+K19 -> 3.5619
A20: 18 | B20: 刘家齐 | C20: 20221122 | D20: 计算机拔尖班 | E20: 是 | F20: 是 | G20: 是 | H20: 是 | I20: =VLOOKUP(B20,[1]绩点!$A$3:$H$86,4,0) -> 3.3697 | J20: 3.3697 | K20: 0.13 | L20: =I20+K20 -> 3.4997
A21: 19 | B21: 吴睿喆 | C21: 20223922 | D21: 计算机拔尖班 | E21: 是 | F21: 是 | G21: 是 | H21: 是 | I21: =VLOOKUP(B21,[1]绩点!$A$3:$H$86,4,0) -> 3.2868 | J21: 3.2868 | K21: 0.15 | L21: =I21+K21 -> 3.4368
A22: 20 | B22: 袁杰 | C22: 20221910 | D22: 计算机拔尖班 | E22: 是 | F22: 是 | G22: 是 | H22: 是 | I22: =VLOOKUP(B22,[1]绩点!$A$3:$H$86,4,0) -> 3.1062 | J22: 3.1062 | K22: 0.05 | L22: =I22+K22 -> 3.1562
A23: 21 | B23: 陈子箭 | C23: 20222402 | D23: 计算机拔尖班 | E23: 是 | F23: 是 | G23: 是 | H23: 是 | I23: =VLOOKUP(B23,[1]绩点!$A$3:$H$86,4,0) -> 3.0349 | J23: 3.0349 | K23: 0.05 | L23: =I23+K23 -> 3.0849
A24: 22 | B24: 张书铭 | C24: 20221018 | D24: 计算机拔尖班 | E24: 是 | F24: 是 | G24: 是 | H24: 是 | I24: =VLOOKUP(B24,[1]绩点!$A$3:$H$86,4,0) -> 3.0179 | J24: 3.0179 | K24: 0.05 | L24: =I24+K24 -> 3.0679
A25: 23 | B25: 郑禹恒 | C25: 20226319 | D25: 数学拔尖班 | E25: 是 | F25: 是 | G25: 是 | H25: 是 | I25: =VLOOKUP(B25,[1]绩点!$A$3:$H$86,4,0) -> 3.8114 | J25: 3.8114 | K25: 0.25 | L25: =I25+K25 -> 4.0614
A26: 24 | B26: 李宇杰 | C26: 20221327 | D26: 数学拔尖班 | E26: 是 | F26: 是 | G26: 是 | H26: 是 | I26: =VLOOKUP(B26,[1]绩点!$A$3:$H$86,4,0) -> 3.8956 | J26: 3.8956 | K26: 0.15 | L26: =I26+K26 -> 4.0456
A27: 25 | B27: 向韵洁 | C27: 20224952 | D27: 数学拔尖班 | E27: 是 | F27: 是 | G27: 是 | H27: 是 | I27: =VLOOKUP(B27,[1]绩点!$A$3:$H$86,4,0) -> 3.8496 | J27: 3.8496 | K27: 0.15 | L27: =I27+K27 -> 3.9996
... A32: 30 | B32: 林坤明 | C32: 20220820 | D32: 数学拔尖班 | E32: 是 | F32: 是 | G32: 是 | H32: 是 | I32: =VLOOKUP(B32,[1]绩点!$A$3:$H$86,4,0) -> 3.6045 | J32: 3.6045 | K32: 0.15 | L32: =I32+K32 -> 3.7545
A33: 31 | B33: 汪天昊 | C33: 20226151 | D33: 数学拔尖班 | E33: 是 | F33: 是 | G33: 是 | H33: 是 | I33: 3.65 | J33: 3.65 | K33: 0.1 | L33: =I33+K33 -> 3.75
A34: 32 | B34: 白明奇 | C34: 20224299 | D34: 数学拔尖班 | E34: 是 | F34: 是 | G34: 是 | H34: 是 | I34: =VLOOKUP(B34,[1]绩点!$A$3:$H$86,4,0) -> 3.3932 | J34: 3.3932 | K34: 0.3 | L34: =I34+K34 -> 3.6932
A35: 33 | B35: 王小华 | C35: 20222852 | D35: 数学拔尖班 | E35: 是 | F35: 是 | G35: 是 | H35: 是 | I35: =VLOOKUP(B35,[1]绩点!$A$3:$H$86,4,0) -> 3.5253 | J35: 3.5253 | K35: 0.15 | L35: =I35+K35 -> 3.6753
A36: 34 | B36: 吴京栖 | C36: 20226220 | D36: 数学拔尖班 | E36: 是 | F36: 是 | G36: 是 | H36: 是 | I36: =VLOOKUP(B36,[1]绩点!$A$3:$H$86,4,0) -> 3.5336 | J36: 3.5336 | K36: 0.05 | L36: =I36+K36 -> 3.5836
A37: 35 | B37: 陈子涵 | C37: 20222939 | D37: 数学拔尖班 | E37: 是 | F37: 是 | G37: 是 | H37: 是 | I37: =VLOOKUP(B37,[1]绩点!$A$3:$H$86,4,0) -> 3.3802 | J37: 3.3802 | K37: 0.1 | L37: =I37+K37 -> 3.4802
A38: 36 | B38: 杨逸霏 | C38: 20225296 | D38: 数学拔尖班 | E38: 是 | F38: 是 | G38: 是 | H38: 是 | I38: =VLOOKUP(B38,[1]绩点!$A$3:$H$86,4,0) -> 3.2114 | J38: 3.2114 | K38: 0.2 | L38: =I38+K38 -> 3.4114
A39: 37 | B39: 喻思九 | C39: 20221850 | D39: 数学拔尖班 | E39: 是 | F39: 是 | G39: 是 | H39: 是 | I39: =VLOOKUP(B39,[1]绩点!$A$3:$H$86,4,0) -> 3.2078 | J39: 3.2078 | K39: 0.05 | L39: =I39+K39 -> 3.2578
A40: 38 | B40: 樊越 | C40: 20224944 | D40: 数学拔尖班 | E40: 是 | F40: 是 | G40: 是 | H40: 是 | I40: 3.05 | J40: 3.05 | K40: 0.1 | L40: =I40+K40 -> 3.15
A41: 39 | B41: 侯晨曦 | C41: 20225037 | D41: 物理拔尖班 | E41: 是 | F41: 是 | G41: 是 | H41: 是 | I41: =VLOOKUP(B41,[1]绩点!$A$3:$H$86,4,0) -> 3.7101 | J41: 3.7101 | K41: 0.3 | L41: =I41+K41 -> 4.0101
A42: 40 | B42: 王柄勋 | C42: 20220738 | D42: 物理拔尖班 | E42: 是 | F42: 是 | G42: 是 | H42: 是 | I42: =VLOOKUP(B42,[1]绩点!$A$3:$H$86,4,0) -> 3.9008 | J42: 3.9008 | K42: 0.1 | L42: =I42+K42 -> 4.0008
A43: 41 | B43: 唐羽羽 | C43: 20224890 | D43: 物理拔尖班 | E43: 是 | F43: 是 | G43: 是 | H43: 是 | I43: =VLOOKUP(B43,[1]绩点!$A$3:$H$86,4,0) -> 3.8691 | J43: 3.8691 | K43: 0.1 | L43: =I43+K43 -> 3.9691
A44: 42 | B44: 张恺欣 | C44: 20224810 | D44: 物理拔尖班 | E44: 是 | F44: 是 | G44: 是 | H44: 是 | I44: =VLOOKUP(B44,[1]绩点!$A$3:$H$86,4,0) -> 3.5636 | J44: 3.5636 | K44: 0.2 | L44: =I44+K44 -> 3.7636
A45: 43 | B45: 杨子杰 | C45: 20223858 | D45: 物理拔尖班 | E45: 是 | F45: 是 | G45: 是 | H45: 是 | I45: =VLOOKUP(B45,[1]绩点!$A$3:$H$86,4,0) -> 3.6433 | J45: 3.6433 | K45: 0.05 | L45: =I45+K45 -> 3.6933
A46: 44 | B46: 陶旭冉 | C46: 20223530 | D46: 物理拔尖班 | E46: 是 | F46: 是 | G46: 是 | H46: 是 | I46: =VLOOKUP(B46,[1]绩点!$A$3:$H$86,4,0) -> 3.6053 | J46: 3.6053 | K46: 0.05 | L46: =I46+K46 -> 3.6553
A47: 45 | B47: 王智印 | C47: 20222547 | D47: 物理拔尖班 | E47: 是 | F47: 是 | G47: 是 | H47: 是 | I47: =VLOOKUP(B47,[1]绩点!$A$3:$H$86,4,0) -> 3.3718 | J47: 3.3718 | K47: 0.25 | L47: =I47+K47 -> 3.6218
A48: 46 | B48: 胡佳睿 | C48: 20224583 | D48: 物理拔尖班 | E48: 是 | F48: 是 | G48: 是 | H48: 是 | I48: =VLOOKUP(B48,[1]绩点!$A$3:$H$86,4,0) -> 3.5504 | J48: 3.5504 | K48: 0.05 | L48: =I48+K48 -> 3.6004
A49: 47 | B49: 王子龙 | C49: 20225428 | D49: 物理拔尖班 | E49: 是 | F49: 是 | G49: 是 | H49: 是 | I49: =VLOOKUP(B49,[1]绩点!$A$3:$H$86,4,0) -> 3.5166 | J49: 3.5166 | K49: 0.05 | L49: =I49+K49 -> 3.5666
A50: 48 | B50: 黄青锋 | C50: 20224368 | D50: 物理拔尖班 | E50: 是 | F50: 是 | G50: 是 | H50: 是 | I50: =VLOOKUP(B50,[1]绩点!$A$3:$H$86,4,0) -> 3.4871 | J50: 3.4871 | K50: 0.05 | L50: =I50+K50 -> 3.5371
A51: 49 | B51: 叶宇翔 | C51: 20226150 | D51: 物理拔尖班 | E51: 是 | F51: 是 | G51: 是 | H51: 是 | I51: =VLOOKUP(B51,[1]绩点!$A$3:$H$86,4,0) -> 3.4869 | J51: 3.4869 | K51: 0.05 | L51: =I51+K51 -> 3.5369
A52: 50 | B52: 涂馨冉 | C52: 20223662 | D52: 物理拔尖班 | E52: 是 | F52: 是 | G52: 是 | H52: 是 | I52: =VLOOKUP(B52,[1]绩点!$A$3:$H$86,4,0) -> 3.2839 | J52: 3.2839 | K52: 0.15 | L52: =I52+K52 -> 3.4339
... A54: 52 | B54: 姜嘉程 | C54: 20223280 | D54: 物理拔尖班 | E54: 是 | F54: 是 | G54: 是 | H54: 是 | I54: =VLOOKUP(B54,[1]绩点!$A$3:$H$86,4,0) -> 3.1632 | J54: 3.1632 | K54: 0.05 | L54: =I54+K54 -> 3.2132

Sheet 加分明细
A1: 弘深学院2022级拟推免学生加分明细
A2: 姓名 | B2: 学号 | C2: 奖励分值B | D2: 加分明细
A3: 葛轩铭 | B3: 20220554 | C3: 0.15 | D3: ACM-ICPC国际大学生程序设计竞赛 | E3: 国家级银奖 | F3: 0.1
D4: 中国大学生程序设计竞赛（CCPC） | E4: 国家级银奖 | F4: 0.15
D5: 中国高校计算机大赛-团体程序设计天梯赛个人 | E5: 国家级一等奖 | F5: 0.15
A6: 胡芸铭 | B6: 20220592 | C6: 0.1 | D6: 美国大学生数学建模竞赛 （MCM/ICM） | E6: 国际级H奖 | F6: 0.05
D7: 全国大学生计算机系统能力大赛 | E7: 国家级三等奖 | F7: 0.05
A8: 张书铭 | B8: 20221018 | C8: 0.05 | D8: 美国大学生数学建模竞赛 （MCM/ICM） | E8: 国际级H奖 | F8: 0.05
A9: 敖翔 | B9: 20221056 | C9: 0.3 | D9: 全国大学生计算机设计大赛 | E9: 国家级二等奖 | F9: 0.1
D10: 全国大学生计算机系统能力大赛 | E10: 国家级三等奖 | F10: 0.05
D11: 论文 | E11: 计算机会议（CCFC） | F11: 0.1
A12: 陈泆君 | B12: 20221057 | C12: 0.2 | D12: 中国大学生程序设计竞赛（CCPC） | E12: 国家级银奖 | F12: 0.15
D13: 中国大学生程序设计竞赛（女生专场） | E13: 国家级金牌 | F13: 0.2
D14: 中国高校计算机大赛-团体程序设计天梯赛个人 | E14: 国家级二等奖 | F14: 0.08
D15: ACM-ICPC国际大学生程序设计竞赛 | E15: 国家级银奖 | F15: 0.1
A16: 刘家齐 | B16: 20221122 | C16: 0.13 | D16: 中国大学生程序设计竞赛（CCPC） | E16: 国家级铜奖 | F16: 0.05
D17: 中国高校计算机大赛-团体程序设计天梯赛个人 | E17: 国家级二等奖 | F17: 0.08
D18: 全国大学生计算机系统能力大赛 | E18: 国家级三等奖 | F18: 0.05
D19: 中国高校计算机大赛-团体程序设计天梯赛团队 | E19: 国家级一等奖 | F19: 0.04
A20: 屈瑾瑜 | B20: 20221337 | C20: 0.05 | D20: 美国大学生数学建模竞赛 （MCM/ICM） | E20: 国际级H奖 | F20: 0.05
A21: 鲁永卓 | B21: 20221570 | C21: 0.2 | D21: 中国高校计算机大赛-团体程序设计天梯赛个人 | E21: 国家级一等奖 | F21: 0.15
D22: 中国大学生程序设计竞赛(CCPC) | E22: 国家级银奖 | F22: 0.15
D23: ACM-ICPC国际大学生程序设计竞赛 | E23: 国家级银奖 | F23: 0.1
D24: 重庆市创新能力提升先进个人 | F24: 0.05
A25: 袁杰 | B25: 20221910 | C25: 0.05 | D25: 美国大学生数学建模竞赛 （MCM/ICM） | E25: 国际级H奖 | F25: 0.05
A26: 张腾 | B26: 20222392 | C26: 0.15 | D26: 中国大学生程序设计竞赛(CCPC) | E26: 国家级铜奖 | F26: 0.05
D27: 中国高校计算机大赛-团体程序设计天梯赛个人 | E27: 国家级三等奖 | F27: 0.025
D28: ACM-ICPC国际大学生程序设计竞赛 | E28: 国家级银奖 | F28: 0.1
D29: 中国高校计算机大赛-团体程序设计天梯赛团队 | E29: 国家级三等奖 | F29: 0.05
D30: 美国大学生数学建模竞赛 （MCM/ICM） | E30: 国际级H奖 | F30: 0.05
A31: 陈子箭 | B31: 20222402 | C31: 0.05 | D31: 美国大学生数学建模竞赛 （MCM/ICM） | E31: 国际级H奖 | F31: 0.05
A32: 周冉 | B32: 20223028 | C32: 0.2 | D32: 全国大学生智能车竞赛 | E32: 国家级二等奖 | F32: 0.1
D33: 论文 | E33: EI | F33: 0.1
A34: 周其星 | B34: 20223396 | C34: 0.4 | D34: 全国大学生数学建模竞赛 | E34: 国家级一等奖 | F34: 0.15
D35: 中国大学生程序设计竞赛(CCPC) | E35: 国家级铜奖 | F35: 0.05
D36: 中国高校计算机大赛-团体程序设计天梯赛个人 | E36: 国家级二等奖 | F36: 0.08
D37: ACM-ICPC国际大学生程序设计竞赛 | E37: 国家级银奖 | F37: 0.1
D38: 论文 | E38: SCI三区 | F38: 0.2
A39: 王龙祥 | B39: 20223610 | C39: 0.05 | D39: 美国大学生数学建模竞赛 （MCM/ICM） | E39: 国际级H奖 | F39: 0.05
A40: 郑梦仁 | B40: 20223714 | C40: 0.225 | D40: 全国大学生数学建模竞赛 | E40: 国家级一等奖 | F40: 0.15
D41: 中国高校计算机大赛-团体程序设计天梯赛个人 | E41: 国家级三等奖 | F41: 0.025
D42: 美国大学生数学建模竞赛 （MCM/ICM） | E42: 国际级H奖 | F42: 0.05
D43: 重庆市三好学生 | F43: 0.05
A44: 吴睿喆 | B44: 20223922 | C44: 0.15 | D44: 美国大学生数学建模竞赛 （MCM/ICM） | E44: 国际级H奖 | F44: 0.05
D45: 重庆市大学生创新创业训练 | E45: 优秀 | F45: 0.1
A46: 周昕 | B46: 20224507 | C46: 0.1 | D46: 美国大学生数学建模竞赛（MCM/ICM） | E46: 国际级M奖 | F46: 0.1
D47: 美国大学生数学建模竞赛（MCM/ICM） | E47: 国际级M奖 | F47: 0.1
A48: 朱云哲 | B48: 20224700 | C48: 0.2 | D48: 全国大学生数学建模竞赛 | E48: 国家级一等奖 | F48: 0.15
D49: 全国大学生计算机系统能力大赛 | E49: 国家级二等奖 | F49: 0.1
A50: 朱哲赟 | B50: 20224719 | C50: 0.3 | D50: 全国大学生数学建模竞赛 | E50: 国家级二等奖 | F50: 0.1
D51: 美国大学生数学建模竞赛 （MCM/ICM） | E51: 国际级H奖 | F51: 0.05
D52: 中国机器人及人工智能大赛全国总决赛 | E52: 国家级二等奖 | F52: 0.1
D53: 重庆市大学生创新创业训练 | E53: 优秀 | F53: 0.1
A54: 许瑞杰 | B54: 20224903 | C54: 0.2 | D54: 美国大学生数学建模竞赛 （MCM/ICM） | E54: 国际级F奖 | F54: 0.15
D55: 中国大学生计算机设计大赛 | E55: 国家级二等奖 | F55: 0.1
A56: 刘明星 | B56: 20224941 | C56: 0.05 | D56: 美国大学生数学建模竞赛 （MCM/ICM） | E56: 国际级H奖 | F56: 0.05
A57: 牛宇威 | B57: 20225247 | C57: 0.3 | D57: 论文 | E57: 计算机会议（CCFA） | F57: 0.2
D58: 中国大学生计算机设计大赛 | E58: 国家级二等奖 | F58: 0.1
A59: 林坤明 | B59: 20220820 | C59: 0.15 | D59: 全国大学生数学竞赛 | E59: 国家级一等奖 | F59: 0.15
A60: 李宇杰 | B60: 20221327 | C60: 0.15 | D60: 全国大学生数学建模竞赛 | E60: 国家级二等奖 | F60: 0.1
D61: 全国大学生数学竞赛 | E61: 国家级三等奖 | F61: 0.05
A62: 喻思九 | B62: 20221850 | C62: 0.05 | D62: 美国大学生数学建模竞赛 （MCM/ICM） | E62: 国际级H奖 | F62: 0.05
A63: 王小华 | B63: 20222852 | C63: 0.15 | D63: 美国大学生数学建模竞赛 （MCM/ICM） | E63: 国际级H奖 | F63: 0.05
D64: 全国大学生英语竞赛（NECCS） | E64: 国家级特等奖 | F64: 0.1
A65: 陈子涵 | B65: 20222939 | C65: 0.1 | D65: 美国大学生数学建模竞赛 （MCM/ICM） | E65: 国际级M奖 | F65: 0.1
A66: 白明奇 | B66: 20224299 | C66: 0.3 | D66: 美国大学生数学建模竞赛 （MCM/ICM） | E66: 国际级M奖 | F66: 0.1
D67: 论文 | E67: JCR一区 | F67: 0.2
A68: 李世荣 | B68: 20224821 | C68: 0.1 | D68: 全国大学生数学建模竞赛 | E68: 国家级二等奖 | F68: 0.1
A69: 樊越 | B69: 20224944 | C69: 0.1 | D69: 美国大学生数学建模竞赛 （MCM/ICM） | E69: 国际级M奖 | F69: 0.1
A70: 向韵洁 | B70: 20224952 | C70: 0.15 | D70: 美国大学生数学建模竞赛 （MCM/ICM） | E70: 国际级F奖 | F70: 0.15
A71: 杨逸霏 | B71: 20225296 | C71: 0.2 | D71: 美国大学生数学建模竞赛 （MCM/ICM） | E71: 国际级H奖 | F71: 0.05
D72: 论文 | E72: JCR二区 | F72: 0.15
A73: 唐安佶 | B73: 20225314 | C73: 0.1 | D73: 全国大学生数学建模竞赛 | E73: 国家级二等奖 | F73: 0.1
A74: 汪天昊 | B74: 20226151 | C74: 0.1 | D74: 美国大学生数学建模竞赛 （MCM/ICM） | E74: 国际级M奖 | F74: 0.1
A75: 曾启芬 | B75: 20226171 | C75: =F75+F76 -> 0.3 | D75: 美国大学生数学建模竞赛 （MCM/ICM） | E75: 国际级F奖 | F75: 0.15
D76: 国家级大学生创新创业训练 | E76: 优秀 | F76: 0.15
A77: 崔凯熙 | B77: 20226175 | C77: 0.3 | D77: 美国大学生数学建模竞赛 （MCM/ICM） | E77: 国际级M奖 | F77: 0.1
D78: 国家级大学生创新创业训练 | E78: 优秀 | F78: 0.15
D79: 论文 | E79: JCR一区 | F79: 0.2
A80: 吴京栖 | B80: 20226220 | C80: 0.05 | D80: 美国大学生数学建模竞赛 （MCM/ICM） | E80: 国际级H奖 | F80: 0.05
A81: 郑禹恒 | B81: 20226319 | C81: 0.25 | D81: 全国大学生数学建模竞赛 | E81: 国家级二等奖 | F81: 0.1
D82: 国家级大学生创新创业训练 | E82: 优秀 | F82: 0.15
A83: 王柄勋 | B83: 20220738 | C83: 0.1 | D83: 美国大学生数学建模竞赛 （MCM/ICM） | E83: 国际级M奖 | F83: 0.1
A84: 王智印 | B84: 20222547 | C84: 0.25 | D84: 美国大学生数学建模竞赛 （MCM/ICM） | E84: 国际级H奖 | F84: 0.05
D85: 论文 | E85: SCI三区 | F85: 0.2
A86: 姜嘉程 | B86: 20223280 | C86: 0.05 | D86: 美国大学生数学建模竞赛 （MCM/ICM） | E86: 国际级H奖 | F86: 0.05
A87: 陶旭冉 | B87: 20223530 | C87: 0.05 | D87: 美国大学生数学建模竞赛 （MCM/ICM） | E87: 国际级H奖 | F87: 0.05
A88: 涂馨冉 | B88: 20223662 | C88: 0.15 | D88: 美国大学生数学建模竞赛 （MCM/ICM） | E88: 国际级M奖 | F88: 0.1
D89: 全国大学生物理实验竞赛 | E89: 国家级二等奖 | F89: 0.05
A90: 杨子杰 | B90: 20223858 | C90: 0.05 | D90: 美国大学生数学建模竞赛 （MCM/ICM） | E90: 国际级H奖 | F90: 0.05
A91: 吴汇印 | B91: 20224267 | C91: 0.15 | D91: 全国大学生物理实验竞赛 | E91: 国家级一等奖 | F91: 0.15
A92: 黄青锋 | B92: 20224368 | C92: 0.05 | D92: 美国大学生数学建模竞赛 （MCM/ICM） | E92: 国际级H奖 | F92: 0.05
A93: 胡佳睿 | B93: 20224583 | C93: 0.05 | D93: 美国大学生数学建模竞赛 （MCM/ICM） | E93: 国际级H奖 | F93: 0.05
A94: 张恺欣 | B94: 20224810 | C94: 0.2 | D94: 论文 | E94: JCR一区 | F94: 0.2
D95: 发明专利 | E95: 排名第一 | F95: 0.2
D96: 国家级大学生创新创业训练 | E96: 优秀 | F96: 0.15
A97: 唐羽羽 | B97: 20224890 | C97: 0.1 | D97: 美国大学生数学建模竞赛 （MCM/ICM） | E97: 国际级M奖 | F97: 0.1
A98: 侯晨曦 | B98: 20225037 | C98: 0.3 | D98: 美国大学生数学建模竞赛 （MCM/ICM） | E98: 国际级M奖 | F98: 0.1
D99: 论文 | E99: JCR一区 | F99: 0.2
A100: 王子龙 | B100: 20225428 | C100: 0.05 | D100: 美国大学生数学建模竞赛 （MCM/ICM） | E100: 国际级H奖 | F100: 0.05
...
