Workbook

Sheet Sheet1
A1: 兰州大学数学与统计学院2027年推荐免试攻读研究生综合指标加分公示
A2: 学号 | B2: 姓名 | C2: 专业名称 | D2: 科研成果加分 | E2: 竞赛获奖加分 | F2: 志愿服务经历加分 | G2: 国际组织实习加分
A3: 32*****01061 | B3: 张靖宇 | C3: 数学（基础理论班） | D3: 0 | E3: 90 | F3: =VLOOKUP(B3,[1]学工打分表!$B$2:$C$41,2,FALSE) -> 100 | G3: 0
A4: 32*****29961 | B4: 张淋羿 | C4: 数学（基础理论班） | D4: 0 | E4: 70 | F4: =VLOOKUP(B4,[1]学工打分表!$B$2:$C$41,2,FALSE) -> 84.76 | G4: 0
A5: 32*****23501 | B5: 谢榕浩 | C5: 数学（基础理论班） | D5: 0 | E5: 80 | F5: =VLOOKUP(B5,[1]学工打分表!$B$2:$C$41,2,FALSE) -> 100 | G5: 0
A6: 32*****29530 | B6: 刘鑫 | C6: 数学（基础理论班） | D6: 0 | E6: 60 | F6: =VLOOKUP(B6,[1]学工打分表!$B$2:$C$41,2,FALSE) -> 100 | G6: 0
A7: 32*****23061 | B7: 余庄起 | C7: 数学（基础理论班） | D7: 0 | E7: 70 | F7: =VLOOKUP(B7,[1]学工打分表!$B$2:$C$41,2,FALSE) -> 100 | G7: 0
A8: 32*****29780 | B8: 王靖宜 | C8: 数学（基础理论班） | D8: 0 | E8: 80 | F8: =VLOOKUP(B8,[1]学工打分表!$B$2:$C$41,2,FALSE) -> 100 | G8: 0
A9: 32*****29860 | B9: 徐淑宇 | C9: 数学（基础理论班） | D9: 0 | E9: 60 | F9: =VLOOKUP(B9,[1]学工打分表!$B$2:$C$41,2,FALSE) -> 100 | G9: 0
A10: 32*****30001 | B10: 赵泽鑫 | C10: 数学（基础理论班） | D10: 0 | E10: 90 | F10: =VLOOKUP(B10,[1]学工打分表!$B$2:$C$41,2,FALSE) -> 32.86 | G10: 0
A11: 32*****19960 | B11: 李香玥 | C11: 数学（基础理论班） | D11: 0 | E11: 70 | F11: =VLOOKUP(B11,[1]学工打分表!$B$2:$C$41,2,FALSE) -> 100 | G11: 0
A12: 32*****29751 | B12: 王宝琉 | C12: 数学（基础理论班） | D12: 0 | E12: 70 | F12: =VLOOKUP(B12,[1]学工打分表!$B$2:$C$41,2,FALSE) -> 100 | G12: 0
A13: 32*****29711 | B13: 唐墨予 | C13: 数学（基础理论班） | D13: 0 | E13: 70 | F13: =VLOOKUP(B13,[1]学工打分表!$B$2:$C$41,2,FALSE) -> 100 | G13: 0
A14: 32*****38031 | B14: 张成龙 | C14: 数学（基础理论班） | D14: 0 | E14: 0 | F14: =VLOOKUP(B14,[1]学工打分表!$B$2:$C$41,2,FALSE) -> 0 | G14: 0
... A16: 32*****29690 | B16: 孙子欣 | C16: 数学（基础理论班） | D16: 0 | E16: 50 | F16: =VLOOKUP(B16,[1]学工打分表!$B$2:$C$41,2,FALSE) -> 100 | G16: 0
A17: 32*****23501 | B17: 黄羽翔 | C17: 数学（基础理论班） | D17: 0 | E17: 0 | F17: 29.1 | G17: 0
A18: 32*****17441 | B18: 祖国轩 | C18: 数学（基础理论班） | D18: 0 | E18: 70 | F18: =VLOOKUP(B18,[1]学工打分表!$B$2:$C$41,2,FALSE) -> 100 | G18: 0
A19: 32*****04961 | B19: 贺靖尧 | C19: 数学（基础理论班） | D19: 0 | E19: 70 | F19: =VLOOKUP(B19,[1]学工打分表!$B$2:$C$41,2,FALSE) -> 100 | G19: 0
A20: 32*****28271 | B20: 王博林 | C20: 数学（基础理论班） | D20: 0 | E20: 90 | F20: =VLOOKUP(B20,[1]学工打分表!$B$2:$C$41,2,FALSE) -> 19.29 | G20: 0
A21: 32*****29851 | B21: 徐实 | C21: 数学（基础理论班） | D21: 0 | E21: 60 | F21: =VLOOKUP(B21,[1]学工打分表!$B$2:$C$41,2,FALSE) -> 90 | G21: 0
A22: 32*****37421 | B22: 李冠杰 | C22: 数学（基础理论班） | D22: 0 | E22: 50 | F22: =VLOOKUP(B22,[1]学工打分表!$B$2:$C$41,2,FALSE) -> 100 | G22: 0
A23: 32*****29351 | B23: 黄琦禹 | C23: 数学（基础理论班） | D23: 0 | E23: 70 | F23: =VLOOKUP(B23,[1]学工打分表!$B$2:$C$41,2,FALSE) -> 100 | G23: 0
A24: 32*****29551 | B24: 鲁昊琛 | C24: 数学（基础理论班） | D24: 0 | E24: 0 | F24: =VLOOKUP(B24,[1]学工打分表!$B$2:$C$41,2,FALSE) -> 58.4 | G24: 0
A25: 32*****29650 | B25: 宋莉莉 | C25: 统计学 | D25: 0 | E25: 70 | F25: =VLOOKUP(B25,[1]学工打分表!$B$2:$C$41,2,FALSE) -> 100 | G25: 0
A26: 32*****29360 | B26: 江艳 | C26: 统计学 | D26: 0 | E26: 50 | F26: =VLOOKUP(B26,[1]学工打分表!$B$2:$C$41,2,FALSE) -> 100 | G26: 0
A27: 32*****29401 | B27: 孔俊晓 | C27: 统计学 | D27: 55 | E27: 70 | F27: =VLOOKUP(B27,[1]学工打分表!$B$2:$C$41,2,FALSE) -> 100 | G27: 0
A28: 32*****23041 | B28: 谢霖锋 | C28: 统计学 | D28: 0 | E28: 70 | F28: =VLOOKUP(B28,[1]学工打分表!$B$2:$C$41,2,FALSE) -> 6.8 | G28: 0
A29: 32*****29391 | B29: 柯岩恒 | C29: 统计学 | D29: 0 | E29: 0 | F29: =VLOOKUP(B29,[1]学工打分表!$B$2:$C$41,2,FALSE) -> 100 | G29: 0
... A39: 32*****20611 | B39: 谢子鹤 | C39: 信息与计算科学 | D39: 0 | E39: 70 | F39: =VLOOKUP(B39,[1]学工打分表!$B$2:$C$41,2,FALSE) -> 94.75 | G39: 0
