Workbook

Sheet 名单
A1: 2026年优秀本科毕业生免试攻读研究生拟推荐名单 | E1: 郑州轻工业大学
A2: 学院 | B2: 专业 | C2: 学号 | D2: 姓名
A3: 电气信息工程学院 | B3: 电气工程及其自动化 | C3: 5422******07 | D3: 兰龙
A4: 电气信息工程学院 | B4: 电气工程及其自动化 | C4: 5422******13 | D4: 吕雅馨
A5: 电气信息工程学院 | B5: 电气工程及其自动化 | C5: 5422******25 | D5: 姚金燕
A6: 电气信息工程学院 | B6: 电气工程及其自动化 | C6: 5422******22 | D6: 吴靖松
A7: 电气信息工程学院 | B7: 电气工程及其自动化 | C7: 5422******24 | D7: 薛斌
A8: 电气信息工程学院 | B8: 电气工程及其自动化 | C8: 5422******29 | D8: 赵紫晴
A9: 电气信息工程学院 | B9: 轨道交通信号与控制 | C9: 5422******27 | D9: 张秋婵
A10: 电气信息工程学院 | B10: 机器人工程 | C10: 5422******17 | D10: 孙康哲
A11: 电气信息工程学院 | B11: 智能电网信息工程 | C11: 5422******22 | D11: 张杰
A12: 电气信息工程学院 | B12: 自动化 | C12: 5422******05 | D12: 郭华龙
A13: 电气信息工程学院 | B13: 自动化 | C13: 5422******29 | D13: 朱浩然
... A165: 易斯顿美术学院 | B165: 数字媒体艺术 | C165: 5422******91 | D165: 马淼

Sheet tj
A1: 序号 | B1: @ 博雅数据库 | C1: 2026届 公示名单
A2: 1 | B2: 电气信息工程学院 | C2: =COUNTIF(名单!A:A,B2) -> 13
A3: 2 | B3: 材料与化学工程学院 | C3: =COUNTIF(名单!A:A,B3) -> 14
A4: 3 | B4: 食品与生物工程学院 | C4: =COUNTIF(名单!A:A,B4) -> 11
A5: 4 | B5: 机电工程学院 | C5: =COUNTIF(名单!A:A,B5) -> 11
A6: 5 | B6: 计算机科学与技术学院 | C6: =COUNTIF(名单!A:A,B6) -> 19
A7: 6 | B7: 经济与管理学院 | C7: =COUNTIF(名单!A:A,B7) -> 10
A8: 7 | B8: 艺术设计学院 | C8: =COUNTIF(名单!A:A,B8) -> 15
A9: 8 | B9: 外国语学院 | C9: =COUNTIF(名单!A:A,B9) -> 3
A10: 9 | B10: 数学与信息科学学院 | C10: =COUNTIF(名单!A:A,B10) -> 3
A11: 10 | B11: 电子信息学院 | C11: =COUNTIF(名单!A:A,B11) -> 10
A12: 11 | B12: 政法学院 | C12: =COUNTIF(名单!A:A,B12) -> 4
A13: 12 | B13: 建筑环境工程学院 | C13: =COUNTIF(名单!A:A,B13) -> 5
... A22: 21 | B22: 易斯顿美术学院 | C22: =COUNTIF(名单!A:A,B22) -> 3
B23: 合计 | C23: =SUM(C2:C22) -> 163
