Workbook

Sheet Sheet1
A1: 电子商务（数字贸易方向）专业申请学生综合成绩公示
A2: 学院 | B2: 专业 | C2: 学号 | D2: 姓名 | E2: 学分加权平均分 | F2: 素质成绩 | G2: 特殊学术专长成绩 | H2: 综合成绩 | I2: 排名 | J2: 备注
A3: 数据科学与电子商务学院 | B3: 电子商务（数字贸易方向） | C3: 202234170502 | D3: 孙雨欣 | E3: 92.44 | F3: 76.444444 | G3: =VLOOKUP(C3,[1]总表!$D:$F,3,0) -> 12 | H3: 87.618222 | I3: 1 | J3: 拟推荐
A4: 数据科学与电子商务学院 | B4: 电子商务（数字贸易方向） | C4: 202234170510 | D4: 屈珊冰 | E4: 92.18 | F4: 73.555556 | G4: =VLOOKUP(C4,[1]总表!$D:$F,3,0) -> 0 | H4: 86.639778 | I4: 2 | J4: 拟推荐
A5: 数据科学与电子商务学院 | B5: 电子商务（数字贸易方向） | C5: 202234170501 | D5: 张青 | E5: 90.93 | F5: 76.888889 | G5: =VLOOKUP(C5,[1]总表!$D:$F,3,0) -> 0 | H5: 85.681444 | I5: 3 | J5: 拟推荐
A6: 数据科学与电子商务学院 | B6: 电子商务（数字贸易方向） | C6: 202234170613 | D6: 范千惠 | E6: 90.50 | F6: 83.916667 | G6: =VLOOKUP(C6,[1]总表!$D:$F,3,0) -> 0 | H6: 85.645833 | I6: 4 | J6: 拟推荐
A7: 数据科学与电子商务学院 | B7: 电子商务（数字贸易方向） | C7: 202234170429 | D7: 刘晗 | E7: 89.51 | F7: 80 | G7: =VLOOKUP(C7,[1]总表!$D:$F,3,0) -> 18 | H7: 85.459 | I7: 5 | J7: 拟推荐
A8: 数据科学与电子商务学院 | B8: 电子商务（数字贸易方向） | C8: 202234170512 | D8: 谢宁 | E8: 90.48 | F8: 60.805556 | G8: =VLOOKUP(C8,[1]总表!$D:$F,3,0) -> 0 | H8: 84.472278 | I8: 6 | J8: 拟推荐
A9: 数据科学与电子商务学院 | B9: 电子商务（数字贸易方向） | C9: 202234170508 | D9: 耿钰鑫 | E9: 89.68 | F9: 72.333333 | G9: =VLOOKUP(C9,[1]总表!$D:$F,3,0) -> 0 | H9: 84.328667 | I9: 7 | J9: 拟推荐
A10: 数据科学与电子商务学院 | B10: 电子商务（数字贸易方向） | C10: 202234170628 | D10: 王明珠 | E10: 88.46 | F10: 87.277778 | G10: =VLOOKUP(C10,[1]总表!$D:$F,3,0) -> 7 | H10: 84.327889 | I10: 8 | J10: 拟推荐
A11: 数据科学与电子商务学院 | B11: 电子商务（数字贸易方向） | C11: 202234170706 | D11: 苏晴 | E11: 90.29 | F11: 55.994444 | G11: =VLOOKUP(C11,[1]总表!$D:$F,3,0) -> 0 | H11: 84.060722 | I11: 9 | J11: 拟推荐
A12: 数据科学与电子商务学院 | B12: 电子商务（数字贸易方向） | C12: 202234170412 | D12: 马宇阳 | E12: 90.36 | F12: 51.805556 | G12: =VLOOKUP(C12,[1]总表!$D:$F,3,0) -> 0 | H12: 83.914278 | I12: 10 | J12: 拟推荐
A13: 数据科学与电子商务学院 | B13: 电子商务（数字贸易方向） | C13: 202234170623 | D13: 李星宇 | E13: 87.46 | F13: 98.666667 | G13: =VLOOKUP(C13,[1]总表!$D:$F,3,0) -> 0 | H13: 83.647333 | I13: 11 | J13: 拟推荐
A14: 数据科学与电子商务学院 | B14: 电子商务（数字贸易方向） | C14: 202234170718 | D14: 刘可怡 | E14: 89.92 | F14: 52.527778 | G14: =VLOOKUP(C14,[1]总表!$D:$F,3,0) -> 0 | H14: 83.554389 | I14: 12
A15: 数据科学与电子商务学院 | B15: 电子商务（数字贸易方向） | C15: 202234170714 | D15: 王婷 | E15: 90.42 | F15: 32.666667 | G15: =VLOOKUP(C15,[1]总表!$D:$F,3,0) -> 0 | H15: 83.011333 | I15: 13
A16: 数据科学与电子商务学院 | B16: 电子商务（数字贸易方向） | C16: 202234170703 | D16: 邵鑫翔 | E16: 88.66 | F16: 62.777778 | G16: =VLOOKUP(C16,[1]总表!$D:$F,3,0) -> 0 | H16: 82.932889 | I16: 14
A17: 数据科学与电子商务学院 | B17: 电子商务（数字贸易方向） | C17: 202234170730 | D17: 张彤 | E17: 88.12 | F17: 69.138889 | G17: =VLOOKUP(C17,[1]总表!$D:$F,3,0) -> 0 | H17: 82.764944 | I17: 15
A18: 数据科学与电子商务学院 | B18: 电子商务（数字贸易方向） | C18: 202234170721 | D18: 刘孟函 | E18: 87.89 | F18: 57.833333 | G18: =VLOOKUP(C18,[1]总表!$D:$F,3,0) -> 0 | H18: 81.992667 | I18: 16
A19: 数据科学与电子商务学院 | B19: 电子商务（数字贸易方向） | C19: 202234170725 | D19: 宋宛儒 | E19: 87.69 | F19: 42.638889 | G19: =VLOOKUP(C19,[1]总表!$D:$F,3,0) -> 9 | H19: 81.502944 | I19: 17
A20: 数据科学与电子商务学院 | B20: 电子商务（数字贸易方向） | C20: 202234170644 | D20: 张振 | E20: 87.95 | F20: 46.777778 | G20: =VLOOKUP(C20,[1]总表!$D:$F,3,0) -> 0 | H20: 81.493889 | I20: 18
A21: 数据科学与电子商务学院 | B21: 电子商务（数字贸易方向） | C21: 202234170717 | D21: 刘梦丽 | E21: 86.86 | F21: 44.666667 | G21: =VLOOKUP(C21,[1]总表!$D:$F,3,0) -> 0 | H21: 80.407333 | I21: 19
A22: 电子商务专业申请学生综合成绩公示
A23: 学院 | B23: 专业 | C23: 学号 | D23: 姓名 | E23: 学分加权平均分 | F23: 素质成绩 | G23: 特殊学术专长成绩 | H23: 综合成绩 | I23: 排名 | J23: 备注
A24: 数据科学与电子商务学院 | B24: 电子商务 | C24: 202234170128 | D24: 申嘉慧 | E24: 91.87 | F24: 61.583333 | G24: =VLOOKUP(C24,[1]总表!$D:$F,3,0) -> 9 | H24: 86.212167 | I24: 1 | J24: 拟推荐
A25: 数据科学与电子商务学院 | B25: 电子商务 | C25: 202234170134 | D25: 杨天月 | E25: 89.90 | F25: 86 | G25: =VLOOKUP(C25,[1]总表!$D:$F,3,0) -> 16.5 | H25: 86.035 | I25: 2 | J25: 拟推荐
A26: 数据科学与电子商务学院 | B26: 电子商务 | C26: 202234170103 | D26: 边心玲 | E26: 90.10 | F26: 85.777778 | G26: =VLOOKUP(C26,[1]总表!$D:$F,3,0) -> 6 | H26: 85.678889 | I26: 3 | J26: 拟推荐
A27: 数据科学与电子商务学院 | B27: 电子商务 | C27: 202234170117 | D27: 臧馨雨 | E27: 88.82 | F27: 57.333333 | G27: =VLOOKUP(C27,[1]总表!$D:$F,3,0) -> 0 | H27: 82.804667 | I27: 4
A28: 数据科学与电子商务学院 | B28: 电子商务 | C28: 202234170132 | D28: 毛旭雁 | E28: 87.59 | F28: 77.5 | G28: =VLOOKUP(C28,[1]总表!$D:$F,3,0) -> 0 | H28: 82.706 | I28: 5
A29: 数据科学与电子商务学院 | B29: 电子商务 | C29: 202134170105 | D29: 吉玉姣 | E29: 88.79 | F29: 30 | G29: =VLOOKUP(C29,[1]总表!$D:$F,3,0) -> 0 | H29: 81.411 | I29: 6
A30: 数据科学与电子商务学院 | B30: 电子商务 | C30: 202234170126 | D30: 张艺涵 | E30: 87.72 | F30: 34.722222 | G30: =VLOOKUP(C30,[1]总表!$D:$F,3,0) -> 0 | H30: 80.684111 | I30: 7
A31: 电子商务及法律专业申请学生综合成绩公示
A32: 学院 | B32: 专业 | C32: 学号 | D32: 姓名 | E32: 学分加权平均分 | F32: 素质成绩 | G32: 特殊学术专长成绩 | H32: 综合成绩 | I32: 排名 | J32: 备注
A33: 数据科学与电子商务学院 | B33: 电子商务及法律 | C33: 202234170331 | D33: 陈家硕 | E33: 88.82 | F33: 93.111111 | G33: =VLOOKUP(C33,[1]总表!$D:$F,3,0) -> 0 | H33: 84.593556 | I33: 1 | J33: 拟推荐
A34: 数据科学与电子商务学院 | B34: 电子商务及法律 | C34: 202234170322 | D34: 李苏雅 | E34: 89.13 | F34: 46.055556 | G34: =VLOOKUP(C34,[1]总表!$D:$F,3,0) -> 0 | H34: 82.519778 | I34: 2
A35: 数据科学与电子商务学院 | B35: 电子商务及法律 | C35: 202234170308 | D35: 栗晴 | E35: 89.53 | F35: 35.944444 | G35: =VLOOKUP(C35,[1]总表!$D:$F,3,0) -> 0 | H35: 82.374222 | I35: 3
A36: 数据科学与电子商务学院 | B36: 电子商务及法律 | C36: 202234170307 | D36: 刘雨萌 | E36: 89.05 | F36: 32.138889 | G36: =VLOOKUP(C36,[1]总表!$D:$F,3,0) -> 0 | H36: 81.751944 | I36: 4
A37: 人工智能专业申请学生综合成绩公示
A38: 学院 | B38: 专业 | C38: 学号 | D38: 姓名 | E38: 学分加权平均分 | F38: 素质成绩 | G38: 特殊学术专长成绩 | H38: 综合成绩 | I38: 排名 | J38: 备注
A39: 数据科学与电子商务学院 | B39: 人工智能 | C39: 202234070924 | D39: 武鹏 | E39: 89.33 | F39: 81 | G39: =VLOOKUP(C39,[1]总表!$D:$F,3,0) -> 6 | H39: 84.747 | I39: 1 | J39: 拟推荐
A40: 数据科学与电子商务学院 | B40: 人工智能 | C40: 202234070907 | D40: 胡俊美 | E40: 89.28 | F40: 85.5 | G40: =VLOOKUP(C40,[1]总表!$D:$F,3,0) -> 0 | H40: 84.627 | I40: 2 | J40: 拟推荐
A41: 数据科学与电子商务学院 | B41: 人工智能 | C41: 202234070903 | D41: 代紫莹 | E41: 89.27 | F41: 68.67 | G41: =VLOOKUP(C41,[1]总表!$D:$F,3,0) -> 6 | H41: 84.0765 | I41: 3 | J41: 拟推荐
A42: 数据科学与电子商务学院 | B42: 人工智能 | C42: 202234070910 | D42: 王艳敏 | E42: 89.00 | F42: 69.83 | G42: =VLOOKUP(C42,[1]总表!$D:$F,3,0) -> 0 | H42: 83.5915 | I42: 4
A43: 数据科学与大数据技术（智能经济分析方向）专业申请学生综合成绩公示
A44: 学院 | B44: 专业 | C44: 学号 | D44: 姓名 | E44: 学分加权平均分 | F44: 素质成绩 | G44: 特殊学术专长成绩 | H44: 综合成绩 | I44: 排名 | J44: 备注
A45: 数据科学与电子商务学院 | B45: 数据科学与大数据技术（智能经济分析方向） | C45: 202234140322 | D45: 支翌新 | E45: 92.69 | F45: 88.896175 | G45: =VLOOKUP(C45,[1]总表!$D:$F,3,0) -> 4.5 | H45: 88.090809 | I45: 1 | J45: 拟推荐
A46: 数据科学与电子商务学院 | B46: 数据科学与大数据技术（智能经济分析方向） | C46: 202234110326 | D46: 张露丰 | E46: 91.22 | F46: 78.666667 | G46: =VLOOKUP(C46,[1]总表!$D:$F,3,0) -> 6 | H46: 86.331333 | I46: 2 | J46: 拟推荐
A47: 数据科学与电子商务学院 | B47: 数据科学与大数据技术（智能经济分析方向） | C47: 202234110423 | D47: 李佩妍 | E47: 90.11 | F47: 89.318761 | G47: =VLOOKUP(C47,[1]总表!$D:$F,3,0) -> 10.5 | H47: 86.089938 | I47: 3 | J47: 拟推荐
A48: 数据科学与电子商务学院 | B48: 数据科学与大数据技术（智能经济分析方向） | C48: 202234040801 | D48: 谢天予 | E48: 88.44 | F48: 95.642987 | G48: =VLOOKUP(C48,[1]总表!$D:$F,3,0) -> 22.25 | H48: 85.490649 | I48: 4 | J48: 拟推荐
A49: 数据科学与电子商务学院 | B49: 数据科学与大数据技术（智能经济分析方向） | C49: 202234080419 | D49: 李梦瑶 | E49: 90.11 | F49: 75.562842 | G49: =VLOOKUP(C49,[1]总表!$D:$F,3,0) -> 4.5 | H49: 85.102142 | I49: 5 | J49: 拟推荐
A50: 数据科学与电子商务学院 | B50: 数据科学与大数据技术（智能经济分析方向） | C50: 202234110352 | D50: 杨弘 | E50: 90.21 | F50: 76.859745 | G50: =VLOOKUP(C50,[1]总表!$D:$F,3,0) -> 0 | H50: 85.031987 | I50: 6 | J50: 拟推荐
A51: 数据科学与电子商务学院 | B51: 数据科学与大数据技术（智能经济分析方向） | C51: 202234080311 | D51: 蒋欣言 | E51: 88.77 | F51: 90.979964 | G51: =VLOOKUP(C51,[1]总表!$D:$F,3,0) -> 0 | H51: 84.441998 | I51: 7 | J51: 拟推荐
A52: 数据科学与电子商务学院 | B52: 数据科学与大数据技术（智能经济分析方向） | C52: 202234170548 | D52: 汪锐 | E52: 88.68 | F52: 78.972678 | G52: =VLOOKUP(C52,[1]总表!$D:$F,3,0) -> 0 | H52: 83.760634 | I52: 8 | J52: 拟推荐
A53: 数据科学与电子商务学院 | B53: 数据科学与大数据技术（智能经济分析方向） | C53: 202234110438 | D53: 詹振星 | E53: 87.74 | F53: 64.837887 | G53: =VLOOKUP(C53,[1]总表!$D:$F,3,0) -> 4.5 | H53: 82.432894 | I53: 9
A54: 数据科学与电子商务学院 | B54: 数据科学与大数据技术（智能经济分析方向） | C54: 202234110311 | D54: 薄飒锐 | E54: 86.82 | F54: 74.265938 | G54: =VLOOKUP(C54,[1]总表!$D:$F,3,0) -> 0 | H54: 81.851297 | I54: 10
A55: 数据科学与电子商务学院 | B55: 数据科学与大数据技术（智能经济分析方向） | C55: 202234110306 | D55: 张鹏珂 | E55: 87.22 | F55: 60 | G55: =VLOOKUP(C55,[1]总表!$D:$F,3,0) -> 0 | H55: 81.498 | I55: 11
A56: 数据科学与电子商务学院 | B56: 数据科学与大数据技术（智能经济分析方向） | C56: 202234110302 | D56: 徐沂 | E56: 86.73 | F56: 68.189435 | G56: =VLOOKUP(C56,[1]总表!$D:$F,3,0) -> 0 | H56: 81.466472 | I56: 12
A57: 信息管理与信息系统专业申请学生综合成绩公示
A58: 学院 | B58: 专业 | C58: 学号 | D58: 姓名 | E58: 学分加权平均分 | F58: 素质成绩 | G58: 特殊学术专长成绩 | H58: 综合成绩 | I58: 排名 | J58: 备注
A59: 数据科学与电子商务学院 | B59: 信息管理与信息系统 | C59: 202234070202 | D59: 何露露 | E59: 92.34 | F59: 91.67 | G59: =VLOOKUP(C59,[1]总表!$D:$F,3,0) -> 0 | H59: 87.6895 | I59: 1 | J59: 拟推荐
A60: 数据科学与电子商务学院 | B60: 信息管理与信息系统 | C60: 202234070210 | D60: 杜媛珂 | E60: 91.28 | F60: 65.5 | G60: =VLOOKUP(C60,[1]总表!$D:$F,3,0) -> 0 | H60: 85.427 | I60: 2 | J60: 拟推荐
A61: 数据科学与电子商务学院 | B61: 信息管理与信息系统 | C61: 202234070209 | D61: 张龙焕 | E61: 89.66 | F61: 75.67 | G61: =VLOOKUP(C61,[1]总表!$D:$F,3,0) -> 0 | H61: 84.4775 | I61: 3

Sheet Sheet2
A1: 姓名 | B1: 学号 | C1: 素质分数（百分制，保留小数点后两位）
A2: 任秋仪 | B2: 202234070206 | C2: 84.17
A3: 平康 | B3: 202234150127 | C3: 83.72
A4: 郅蕊源 | B4: 202234070201 | C4: 94.5
A5: 耿浩迪 | B5: 202234070138 | C5: 80.83
A6: 王奕涵 | B6: 202234150122 | C6: 55.83
A7: 何俐 | B7: 202234070158 | C7: 95.83
A8: 张冰磊 | B8: 202234070445 | C8: 87.33
A9: 王文琛 | B9: 202234070565 | C9: 86.17
A10: 郑金玉 | B10: 202234070505 | C10: 82.5
A11: 王子 | B11: 202234070430 | C11: 90.17
A12: 马洪炟 | B12: 202234070516 | C12: 89.33
A13: 王夏青 | B13: 202234070405 | C13: 75.67
... A57: 张龙焕 | B57: 202234070209 | C57: 75.67

Sheet Sheet3
A1: 姓名 | B1: 学号 | C1: 素质分数（百分制，保留小数点后两位）
A2: 千佳珍 | B2: 202234170209 | C2: 80.222222
A3: 陈晶晶 | B3: 202234170201 | C3: 78.777778
A4: 贾婷菲 | B4: 202234170207 | C4: 77.666667
A5: 卢贝 | B5: 202234170222 | C5: 65.222222
A6: 乔天恩 | B6: 202234170203 | C6: 58
A7: 孙焕雅 | B7: 202234170226 | C7: 52.777778
A8: 赵轩 | B8: 202234170214 | C8: 32.888889
A9: 吉玉姣 | B9: 202134170105 | C9: 30
A10: 边心玲 | B10: 202234170103 | C10: 85.777778
A11: 臧馨雨 | B11: 202234170117 | C11: 57.333333
A12: 张艺涵 | B12: 202234170126 | C12: 34.722222
A13: 申嘉慧 | B13: 202234170128 | C13: 61.583333
... A38: 张彤 | B38: 202234170730 | C38: 69.138889

Sheet Sheet4
A1: 姓名 | B1: 学号 | C1: 素质分数
A2: 武柯彤 | B2: 202234110207 | C2: 76.582878
A3: 李子玉 | B3: 202234110217 | C3: 91.606557
A4: 侯卓伶 | B4: 202234110203 | C4: 94.120219
A5: 张嘉轩 | B5: 202234110218 | C5: 96.196721
A6: 支翌新 | B6: 202234140322 | C6: 88.896175
A7: 张露丰 | B7: 202234110326 | C7: 78.666667
A8: 杨弘 | B8: 202234110352 | C8: 76.859745
A9: 李佩妍 | B9: 202234110423 | C9: 89.318761
A10: 李梦瑶 | B10: 202234080419 | C10: 75.562842
A11: 蒋欣言 | B11: 202234080311 | C11: 90.979964
A12: 汪锐 | B12: 202234170548 | C12: 78.972678
A13: 谢天予 | B13: 202234040801 | C13: 95.642987
... A29: 陈晓熠 | B29: 202234110123 | C29: 71.380692
