Workbook

Sheet Sheet1
A1: 学号 | B1: 姓名 | C1: 拟转入专业
A2: =[1]确定名单!B2 -> 2401811063 | B2: =[1]确定名单!D2 -> 郭珂 | C2: =[1]确定名单!K2 -> 烟草
A3: =[1]确定名单!B3 -> 2401811162 | B3: =[1]确定名单!D3 -> 任雅晴 | C3: =[1]确定名单!K3 -> 食品科学与工程(烟草工程)
A4: =[1]确定名单!B4 -> 2401811253 | B4: =[1]确定名单!D4 -> 王佳雪 | C4: =[1]确定名单!K4 -> 动物医学(学制五年)
A5: =[1]确定名单!B5 -> 2401811024 | B5: =[1]确定名单!D5 -> 尚子涵 | C5: =[1]确定名单!K5 -> 烟草
A6: =[1]确定名单!B6 -> 2401811207 | B6: =[1]确定名单!D6 -> 田鸿浩 | C6: =[1]确定名单!K6 -> 智慧农业
A7: =[1]确定名单!B7 -> 2401811117 | B7: =[1]确定名单!D7 -> 薛博远 | C7: =[1]确定名单!K7 -> 食品科学与工程(烟草工程)
A8: =[1]确定名单!B8 -> 2401811016 | B8: =[1]确定名单!D8 -> 甄好 | C8: =[1]确定名单!K8 -> 食品科学与工程(烟草工程)
A9: =[1]确定名单!B9 -> 2401811094 | B9: =[1]确定名单!D9 -> 郝意稳 | C9: =[1]确定名单!K9 -> 食品科学与工程(烟草工程)
A10: =[1]确定名单!B10 -> 2401811135 | B10: =[1]确定名单!D10 -> 刘奕辰 | C10: =[1]确定名单!K10 -> 动植物检疫(动物检疫)
A11: =[1]确定名单!B11 -> 2401811232 | B11: =[1]确定名单!D11 -> 雷丰泽 | C11: =[1]确定名单!K11 -> 烟草
A12: =[1]确定名单!B12 -> 2401061041 | B12: =[1]确定名单!D12 -> 刘倚幔 | C12: =[1]确定名单!K12 -> 食品科学与工程(烟草工程)
A13: =[1]确定名单!B13 -> 2401061074 | B13: =[1]确定名单!D13 -> 肖雨彤 | C13: =[1]确定名单!K13 -> 食品科学与工程(烟草工程)
... A394: =[1]确定名单!B394 -> 2426041029 | B394: =[1]确定名单!D394 -> 张凯溪 | C394: =[1]确定名单!K394 -> 烟草

Sheet Sheet2

Sheet Sheet3
