Workbook

Sheet 总表
A1: 序号 | B1: 专业 | C1: 学号 | D1: 姓名 | E1: 性别 | F1: 推荐类型 | G1: 必修课第一次正考平均绩点 | H1: 必修课专业排名 | I1: 素质排位 占比是否在前40% | J1: 体育均达标 | K1: 四级成绩 | L1: 平时成绩 | M1: 优先加分项目总分（超出5分记5分） | N1: 综合成绩 | O1: 综合名次 | P1: 所在专业人数 | Q1: 结论
A2: 1 | B2: 计算机科学与技术 | C2: 5120221129 | D2: 刘禹岐 | E2: 男 | F2: 普通 | G2: 4.7387 | H2: 1 | I2: 是 | J2: 是 | K2: 522 | L2: =G2*10+50 -> 97.387 | M2: =VLOOKUP(C2,计科加分明细!$B$2:$N$102,13,0) -> 1.81 | N2: =ROUND(SUM(M2+L2),2) -> 99.2 | O2: 1 | P2: 235 | Q2: 拟推荐
A3: 2 | B3: 计算机科学与技术 | C3: 5120221800 | D3: 程童 | E3: 男 | F3: 普通 | G3: 4.2711 | H3: 2 | I3: 是 | J3: 是 | K3: 545 | L3: =G3*10+50 -> 92.711 | M3: =VLOOKUP(C3,计科加分明细!$B$2:$N$102,13,0) -> 4.655 | N3: =ROUND(SUM(M3+L3),2) -> 97.37 | O3: 2 | P3: 235 | Q3: 拟推荐
A4: 3 | B4: 计算机科学与技术 | C4: 5120220857 | D4: 杨若瑄 | E4: 女 | F4: 普通 | G4: 4.1635 | H4: 5 | I4: 是 | J4: 是 | K4: 524 | L4: =G4*10+50 -> 91.635 | M4: =VLOOKUP(C4,计科加分明细!$B$2:$N$102,13,0) -> 5 | N4: =ROUND(SUM(M4+L4),2) -> 96.64 | O4: 3 | P4: 235 | Q4: 拟推荐
A5: 4 | B5: 计算机科学与技术 | C5: 5120222652 | D5: 江晶蕊 | E5: 女 | F5: 普通 | G5: 4.1634 | H5: 6 | I5: 是 | J5: 是 | K5: 482 | L5: =G5*10+50 -> 91.634 | M5: =VLOOKUP(C5,计科加分明细!$B$2:$N$102,13,0) -> 4.138 | N5: =ROUND(SUM(M5+L5),2) -> 95.77 | O5: 4 | P5: 235 | Q5: 拟推荐
A6: 5 | B6: 计算机科学与技术 | C6: 5120226972 | D6: 郑俊杰 | E6: 男 | F6: 普通 | G6: 4.1754 | H6: 4 | I6: 是 | J6: 是 | K6: 564 | L6: =G6*10+50 -> 91.754 | M6: =VLOOKUP(C6,计科加分明细!$B$2:$N$102,13,0) -> 3.966 | N6: =ROUND(SUM(M6+L6),2) -> 95.72 | O6: 5 | P6: 235 | Q6: 拟推荐
A7: 6 | B7: 计算机科学与技术 | C7: 5120226444 | D7: 王俊豪 | E7: 男 | F7: 普通 | G7: 4.1123 | H7: 7 | I7: 是 | J7: 是 | K7: 463 | L7: =G7*10+50 -> 91.123 | M7: =VLOOKUP(C7,计科加分明细!$B$2:$N$102,13,0) -> 4.483 | N7: =ROUND(SUM(M7+L7),2) -> 95.61 | O7: 6 | P7: 235 | Q7: 拟推荐
A8: 7 | B8: 计算机科学与技术 | C8: 5120225663 | D8: 唐靖宇 | E8: 男 | F8: 普通 | G8: 4.0727 | H8: 10 | I8: 是 | J8: 是 | K8: 567 | L8: =G8*10+50 -> 90.727 | M8: =VLOOKUP(C8,计科加分明细!$B$2:$N$102,13,0) -> 3.966 | N8: =ROUND(SUM(M8+L8),2) -> 94.69 | O8: 7 | P8: 235 | Q8: 拟推荐
A9: 8 | B9: 计算机科学与技术 | C9: 5120222757 | D9: 张筱竹 | E9: 女 | F9: 普通 | G9: 4.0527 | H9: 11 | I9: 是 | J9: 是 | K9: 486 | L9: =G9*10+50 -> 90.527 | M9: =VLOOKUP(C9,计科加分明细!$B$2:$N$102,13,0) -> 4.138 | N9: =ROUND(SUM(M9+L9),2) -> 94.67 | O9: 8 | P9: 235 | Q9: 拟推荐
A10: 9 | B10: 计算机科学与技术 | C10: 5120222952 | D10: 肖诗琪 | E10: 女 | F10: 普通 | G10: 4.0334 | H10: 13 | I10: 是 | J10: 是 | K10: 538 | L10: =G10*10+50 -> 90.334 | M10: =VLOOKUP(C10,计科加分明细!$B$2:$N$102,13,0) -> 4.138 | N10: =ROUND(SUM(M10+L10),2) -> 94.47 | O10: 9 | P10: 235 | Q10: 拟推荐
A11: 10 | B11: 计算机科学与技术 | C11: 5120217762 | D11: 许芸欣 | E11: 女 | F11: 普通 | G11: 4.0471 | H11: 12 | I11: 是 | J11: 是 | K11: 477 | L11: =G11*10+50 -> 90.471 | M11: =VLOOKUP(C11,计科加分明细!$B$2:$N$102,13,0) -> 3.793 | N11: =ROUND(SUM(M11+L11),2) -> 94.26 | O11: 10 | P11: 235 | Q11: 拟推荐
A12: 11 | B12: 计算机科学与技术 | C12: 5120222504 | D12: 彭阳 | E12: 女 | F12: 普通 | G12: 3.9494 | H12: 16 | I12: 是 | J12: 是 | K12: 549 | L12: =G12*10+50 -> 89.494 | M12: =VLOOKUP(C12,计科加分明细!$B$2:$N$102,13,0) -> 4.31 | N12: =ROUND(SUM(M12+L12),2) -> 93.8 | O12: 11 | P12: 235 | Q12: 拟推荐
A13: 12 | B13: 计算机科学与技术 | C13: 5120220522 | D13: 杨佃文 | E13: 男 | F13: 普通 | G13: 4.0291 | H13: 14 | I13: 是 | J13: 是 | K13: 443 | L13: =G13*10+50 -> 90.291 | M13: =VLOOKUP(C13,计科加分明细!$B$2:$N$102,13,0) -> 2.931 | N13: =ROUND(SUM(M13+L13),2) -> 93.22 | O13: 12 | P13: 235 | Q13: 拟推荐
... A23: 22 | B23: 计算机科学与技术 | C23: 5120222485 | D23: 黄瑞熙 | E23: 男 | F23: 普通 | G23: 3.645 | H23: 36 | I23: 是 | J23: 是 | K23: 545 | L23: =G23*10+50 -> 86.45 | M23: =VLOOKUP(C23,计科加分明细!$B$2:$N$102,13,0) -> 4.138 | N23: =ROUND(SUM(M23+L23),2) -> 90.59 | O23: 22 | P23: 235 | Q23: 拟递补
A24: 23 | B24: 软件工程 | C24: 5120223099 | D24: 夏萍 | E24: 女 | F24: 普通 | G24: 4.2046 | H24: 1 | I24: 是 | J24: 是 | K24: 543 | L24: =G24*10+50 -> 92.046 | M24: =VLOOKUP(C24,软件加分明细!$B$2:$N$74,13,0) -> 3.281 | N24: =ROUND(SUM(M24+L24),2) -> 95.33 | O24: 1 | P24: 238 | Q24: 拟推荐
A25: 24 | B25: 软件工程 | C25: 5120222536 | D25: 董鑫 | E25: 女 | F25: 普通 | G25: 4.19 | H25: 2 | I25: 是 | J25: 是 | K25: 562 | L25: =G25*10+50 -> 91.9 | M25: =VLOOKUP(C25,软件加分明细!$B$2:$N$74,13,0) -> 3.125 | N25: =ROUND(SUM(M25+L25),2) -> 95.03 | O25: 2 | P25: 238 | Q25: 拟推荐
A26: 25 | B26: 软件工程 | C26: 5120220229 | D26: 杨婷 | E26: 女 | F26: 普通 | G26: 3.9888 | H26: 10 | I26: 是 | J26: 是 | K26: 499 | L26: =G26*10+50 -> 89.888 | M26: =VLOOKUP(C26,软件加分明细!$B$2:$N$74,13,0) -> 5 | N26: =ROUND(SUM(M26+L26),2) -> 94.89 | O26: 3 | P26: 238 | Q26: 拟推荐
A27: 26 | B27: 软件工程 | C27: 5120223646 | D27: 李家豪 | E27: 男 | F27: 普通 | G27: 4.0978 | H27: 4 | I27: 是 | J27: 是 | K27: 447 | L27: =G27*10+50 -> 90.978 | M27: =VLOOKUP(C27,软件加分明细!$B$2:$N$74,13,0) -> 3.516 | N27: =ROUND(SUM(M27+L27),2) -> 94.49 | O27: 4 | P27: 238 | Q27: 拟推荐
A28: 27 | B28: 软件工程 | C28: 5120222766 | D28: 杨思睿 | E28: 女 | F28: 普通 | G28: 4.1322 | H28: 3 | I28: 是 | J28: 是 | K28: 460 | L28: =G28*10+50 -> 91.322 | M28: =VLOOKUP(C28,软件加分明细!$B$2:$N$74,13,0) -> 2.5 | N28: =ROUND(SUM(M28+L28),2) -> 93.82 | O28: 5 | P28: 238 | Q28: 拟推荐
A29: 28 | B29: 软件工程 | C29: 5120224506 | D29: 李欣珂 | E29: 女 | F29: 普通 | G29: 4.0036 | H29: 9 | I29: 是 | J29: 是 | K29: 549 | L29: =G29*10+50 -> 90.036 | M29: =VLOOKUP(C29,软件加分明细!$B$2:$N$74,13,0) -> 3.125 | N29: =ROUND(SUM(M29+L29),2) -> 93.16 | O29: 6 | P29: 238 | Q29: 拟推荐
A30: 29 | B30: 软件工程 | C30: 5120221183 | D30: 涂惠轩 | E30: 男 | F30: 普通 | G30: 3.9514 | H30: 12 | I30: 是 | J30: 是 | K30: 486 | L30: =G30*10+50 -> 89.514 | M30: =VLOOKUP(C30,软件加分明细!$B$2:$N$74,13,0) -> 3.594 | N30: =ROUND(SUM(M30+L30),2) -> 93.11 | O30: 7 | P30: 238 | Q30: 拟推荐
A31: 30 | B31: 软件工程 | C31: 5120221658 | D31: 申翔宇 | E31: 女 | F31: 普通 | G31: 3.8762 | H31: 17 | I31: 是 | J31: 是 | K31: 544 | L31: =G31*10+50 -> 88.762 | M31: =VLOOKUP(C31,软件加分明细!$B$2:$N$74,13,0) -> 3.906 | N31: =ROUND(SUM(M31+L31),2) -> 92.67 | O31: 8 | P31: 238 | Q31: 拟推荐
A32: 31 | B32: 软件工程 | C32: 5120224025 | D32: 黄韵 | E32: 女 | F32: 普通 | G32: 4.0249 | H32: 7 | I32: 是 | J32: 是 | K32: 571 | L32: =G32*10+50 -> 90.249 | M32: =VLOOKUP(C32,软件加分明细!$B$2:$N$74,13,0) -> 2.188 | N32: =ROUND(SUM(M32+L32),2) -> 92.44 | O32: 9 | P32: 238 | Q32: 拟推荐
A33: 32 | B33: 软件工程 | C33: 5120225294 | D33: 唐湘南 | E33: 女 | F33: 普通 | G33: 4.0334 | H33: 6 | I33: 是 | J33: 是 | K33: 553 | L33: =G33*10+50 -> 90.334 | M33: =VLOOKUP(C33,软件加分明细!$B$2:$N$74,13,0) -> 1.042 | N33: =ROUND(SUM(M33+L33),2) -> 91.38 | O33: 10 | P33: 238 | Q33: 拟推荐
A34: 33 | B34: 软件工程 | C34: 5120223230 | D34: 刘格宁 | E34: 女 | F34: 普通 | G34: 4.0223 | H34: 8 | I34: 是 | J34: 是 | K34: 524 | L34: =G34*10+50 -> 90.223 | M34: =VLOOKUP(C34,软件加分明细!$B$2:$N$74,13,0) -> 1.094 | N34: =ROUND(SUM(M34+L34),2) -> 91.32 | O34: 11 | P34: 238 | Q34: 拟推荐
A35: 34 | B35: 软件工程 | C35: 5120225285 | D35: 赵曼利 | E35: 女 | F35: 普通 | G35: 4.0356 | H35: 5 | I35: 是 | J35: 是 | K35: 506 | L35: =G35*10+50 -> 90.356 | M35: =VLOOKUP(C35,软件加分明细!$B$2:$N$74,13,0) -> 0.781 | N35: =ROUND(SUM(M35+L35),2) -> 91.14 | O35: 12 | P35: 238 | Q35: 拟推荐
... A40: 39 | B40: 软件工程 | C40: 5120222379 | D40: 金叶 | E40: 女 | F40: 普通 | G40: 3.9297 | H40: 13 | I40: 是 | J40: 是 | K40: 570 | L40: =G40*10+50 -> 89.297 | M40: =VLOOKUP(C40,软件加分明细!$B$2:$N$74,13,0) -> 1.5 | N40: =ROUND(SUM(M40+L40),2) -> 90.8 | O40: 17 | P40: 238 | Q40: 拟递补
A41: 40 | B41: 数据科学与大数据技术 | C41: 5120223048 | D41: 王婕 | E41: 女 | F41: 普通 | G41: 3.9367 | H41: 2 | I41: 是 | J41: 是 | K41: 489 | L41: =G41*10+50 -> 89.367 | M41: =VLOOKUP(C41,大数据加分明细!$C$2:$I$9,7,0) -> 5 | N41: =ROUND(SUM(M41+L41),2) -> 94.37 | O41: 1 | P41: 105 | Q41: 拟推荐
A42: 41 | B42: 数据科学与大数据技术 | C42: 5120221862 | D42: 许王义 | E42: 男 | F42: 普通 | G42: 3.9095 | H42: 3 | I42: 是 | J42: 是 | K42: 435 | L42: =G42*10+50 -> 89.095 | M42: =VLOOKUP(C42,大数据加分明细!$C$2:$I$9,7,0) -> 4 | N42: =ROUND(SUM(M42+L42),2) -> 93.1 | O42: 2 | P42: 105 | Q42: 拟推荐
A43: 42 | B43: 数据科学与大数据技术 | C43: 5120223187 | D43: 黄文静 | E43: 女 | F43: 普通 | G43: 3.8541 | H43: 5 | I43: 是 | J43: 是 | K43: 457 | L43: =G43*10+50 -> 88.541 | M43: =VLOOKUP(C43,大数据加分明细!$C$2:$I$9,7,0) -> 4.1 | N43: =ROUND(SUM(M43+L43),2) -> 92.64 | O43: 3 | P43: 105 | Q43: 拟推荐
A44: 43 | B44: 数据科学与大数据技术 | C44: 5120224648 | D44: 岳子谋 | E44: 男 | F44: 普通 | G44: 3.8911 | H44: 4 | I44: 是 | J44: 是 | K44: 512 | L44: =G44*10+50 -> 88.911 | M44: =VLOOKUP(C44,大数据加分明细!$C$2:$I$9,7,0) -> 3.63 | N44: =ROUND(SUM(M44+L44),2) -> 92.54 | O44: 4 | P44: 105 | Q44: 拟推荐
A45: 44 | B45: 数据科学与大数据技术 | C45: 5120222455 | D45: 刘增焰 | E45: 女 | F45: 普通 | G45: 4.0975 | H45: 1 | I45: 是 | J45: 是 | K45: 541 | L45: =G45*10+50 -> 90.975 | M45: =VLOOKUP(C45,大数据加分明细!$C$2:$I$9,7,0) -> 1 | N45: =ROUND(SUM(M45+L45),2) -> 91.98 | O45: 5 | P45: 105 | Q45: 拟推荐
A46: 45 | B46: 数据科学与大数据技术 | C46: 5120221718 | D46: 张文伟 | E46: 男 | F46: 普通 | G46: 3.847 | H46: 6 | I46: 是 | J46: 是 | K46: 469 | L46: =G46*10+50 -> 88.47 | M46: =VLOOKUP(C46,大数据加分明细!$C$2:$I$9,7,0) -> 3.45 | N46: =ROUND(SUM(M46+L46),2) -> 91.92 | O46: 6 | P46: 105 | Q46: 拟推荐
A47: 46 | B47: 数据科学与大数据技术 | C47: 5120225332 | D47: 张中燕 | E47: 女 | F47: 普通 | G47: 3.7607 | H47: 7 | I47: 是 | J47: 是 | K47: 503 | L47: =G47*10+50 -> 87.607 | M47: =VLOOKUP(C47,大数据加分明细!$C$2:$I$9,7,0) -> 3.04 | N47: =ROUND(SUM(M47+L47),2) -> 90.65 | O47: 7 | P47: 105 | Q47: 拟递补
A48: 47 | B48: 数据科学与大数据技术 | C48: 5120222918 | D48: 舒燚希 | E48: 男 | F48: 普通 | G48: 3.6014 | H48: 12 | I48: 是 | J48: 是 | K48: 459 | L48: =G48*10+50 -> 86.014 | M48: =VLOOKUP(C48,大数据加分明细!$C$2:$I$9,7,0) -> 1.85 | N48: =ROUND(SUM(M48+L48),2) -> 87.86 | O48: 8 | P48: 105 | Q48: 拟递补
A49: 48 | B49: 信息安全 | C49: 5120222804 | D49: 邱函 | E49: 女 | F49: 普通 | G49: 4.2053 | H49: 1 | I49: 是 | J49: 是 | K49: 591 | L49: =G49*10+50 -> 92.053 | M49: =VLOOKUP(C49,信安加分明细!$B$2:$N$48,13,0) -> 3.646 | N49: =ROUND(SUM(M49+L49),2) -> 95.7 | O49: 1 | P49: 196 | Q49: 拟推荐
A50: 49 | B50: 信息安全 | C50: 5120220846 | D50: 周宇轩 | E50: 男 | F50: 普通 | G50: 4.0668 | H50: 3 | I50: 是 | J50: 是 | K50: 471 | L50: =G50*10+50 -> 90.668 | M50: =VLOOKUP(C50,信安加分明细!$B$2:$N$48,13,0) -> 4.375 | N50: =ROUND(SUM(M50+L50),2) -> 95.04 | O50: 2 | P50: 196 | Q50: 拟推荐
A51: 50 | B51: 信息安全 | C51: 5120220844 | D51: 陈嘉俊 | E51: 男 | F51: 普通 | G51: 4.0534 | H51: 4 | I51: 是 | J51: 是 | K51: 512 | L51: =G51*10+50 -> 90.534 | M51: =VLOOKUP(C51,信安加分明细!$B$2:$N$48,13,0) -> 3.958 | N51: =ROUND(SUM(M51+L51),2) -> 94.49 | O51: 3 | P51: 196 | Q51: 拟推荐
A52: 51 | B52: 信息安全 | C52: 5120224373 | D52: 孟思艺 | E52: 女 | F52: 普通 | G52: 4.1044 | H52: 2 | I52: 是 | J52: 是 | K52: 525 | L52: =G52*10+50 -> 91.044 | M52: =VLOOKUP(C52,信安加分明细!$B$2:$N$48,13,0) -> 3.194 | N52: =ROUND(SUM(M52+L52),2) -> 94.24 | O52: 4 | P52: 196 | Q52: 拟推荐
A53: 52 | B53: 信息安全 | C53: 5120224604 | D53: 朱小燕 | E53: 女 | F53: 普通 | G53: 3.824 | H53: 7 | I53: 是 | J53: 是 | K53: 485 | L53: =G53*10+50 -> 88.24 | M53: =VLOOKUP(C53,信安加分明细!$B$2:$N$48,13,0) -> 5 | N53: =ROUND(SUM(M53+L53),2) -> 93.24 | O53: 5 | P53: 196 | Q53: 拟推荐
...

Sheet 计科加分明细
A1: 专业 | B1: 学号 | C1: 姓名 | D1: 性别 | E1: 加分类别 | F1: 加分项 | G1: 备注 | H1: 院级加分分值 | I1: 校级加分分值 | J1: 院级加分总分 | K1: 校级加分总分 | L1: 院级分专业最高分 | M1: 院级折算至5分 | N1: 优先加分项目总分（超出5分记5分）
A2: 计算机科学与技术 | B2: 5120223449 | C2: 朱永洁 | D2: 女 | E2: 学科竞赛 | F2: 全国大学生CCVR中国虚拟现实大赛 | G2: 学院C类，2025年，国一，排名第一 | H2: 7 | J2: 22 | K2: 1 | L2: =MAX($J$2:$J$102) -> 29 | M2: =ROUND(J2/L2*5,3) -> 3.793 | N2: =MAX(K2,M2) -> 3.793
E3: 学科竞赛 | F3: 第十二届全国大学生数字媒体科技作品及创意竞赛国赛三等奖 | G3: C类，省级，团队排名第一，三等奖 | H3: 4
E4: 学科竞赛 | F4: 四川省大学生计算机设计大赛 | G4: C类，省级，团队排名第一，三等奖 | H4: 4
E5: 荣誉获奖 | F5: 四川省综合素质A级证书 | G5: 省级荣誉获奖加4分 | H5: 4
E6: 外语水平类 | F6: CET六级 450 | H6: 3 | I6: 1
A7: 计算机科学与技术 | B7: 5120222815 | C7: 左玙霞 | D7: 女 | E7: 学科竞赛 | F7: 全国大学生创新创业训练计划年会展示 | G7: A类，2025年，省级，团队排名第一，二等奖，3+2+2 | H7: 7 | J7: 25 | K7: 0 | L7: =MAX($J$2:$J$102) -> 29 | M7: =ROUND(J7/L7*5,3) -> 4.31 | N7: =MAX(K7,M7) -> 4.31
E8: 学科竞赛 | F8: 第十二届全国大学生数字媒体科技作品及创意竞赛国赛三等奖 | G8: C类，2024年，国家级，团队排名第一，三等奖，5+1 | H8: 6
E9: 科技项目 | F9: 省级创新创业训练项目 立项（编号：S202410619046) | G9: 省级，项目负责人，4 | H9: 4
E10: 荣誉获奖 | F10: 四川省综合素质A级证书 | G10: 省级荣誉获奖加4分 | H10: 4
E11: 学科竞赛 | F11: 第十六届蓝桥杯全国软件和信息技术专业人才大赛四川赛区三等奖 | G11: C类，2025年，省级，个人，三等奖，3+1 | H11: 4
A12: 计算机科学与技术 | B12: 5120224085 | C12: 赵苏豪 | D12: 男 | E12: 外语水平类 | F12: CET六级 438 | H12: 3 | I12: 1 | J12: 10 | K12: 1 | L12: =MAX($J$2:$J$102) -> 29 | M12: =ROUND(J12/L12*5,3) -> 1.724 | N12: =MAX(K12,M12) -> 1.724
E13: 学科竞赛 | F13: 第十五届蓝桥杯全国软件和信息技术专业人才大赛四川赛区三等奖 | G13: C类，2024年，省级，个人，三等奖 3+1 | H13: 4
E14: 学科竞赛 | F14: 第17届全国三维数字化创新设计大赛全国总决赛三等奖 | G14: C类，2025年，国家级，团队，排名第二，三等奖，(5+1)/2=3 | H14: 3
A15: 计算机科学与技术 | B15: 5120222757 | C15: 张筱竹 | D15: 女 | E15: 荣誉获奖 | F15: 四川省大学生综合素质A级证书 | H15: 4 | J15: 24 | K15: 1 | L15: =MAX($J$2:$J$102) -> 29 | M15: =ROUND(J15/L15*5,3) -> 4.138 | N15: =MAX(K15,M15) -> 4.138
E16: 外语水平类 | F16: CET六级 465 | H16: 3 | I16: 1
E17: 学科竞赛 | F17: 第九届华为ICT大赛实践赛省赛网络赛道高教组二等奖 | G17: B类，2025年，省级，个人，二等奖3+1+2 | H17: 6
E18: 学科竞赛 | F18: 中国高校计算机大赛2025网络技术挑战赛西南赛区三等奖 | G18: B类，2025年，省级，排名第一，三等奖3+1+1 | H18: 5
E19: 其他 | F19: 2025全国高校商业精英挑战赛创新创业竞赛创业模拟赛道全国二等奖 | G19: 2025年，国家级，排名第一，二等奖4+2 | H19: 6
A20: 计算机科学与技术 | B20: 5120220857 | C20: 杨若瑄 | D20: 女 | E20: 学科竞赛 | F20: 第十六届蓝桥杯全国软件和信息技术专业人才大赛全国总决赛二等奖 | G20: C类，2024年，国家级，个人，二等奖，5+2 | H20: 7 | J20: 29 | K20: 1 | L20: =MAX($J$2:$J$102) -> 29 | M20: =ROUND(J20/L20*5,3) -> 5 | N20: =MAX(K20,M20) -> 5
E21: 学科竞赛 | F21: 2024年全国大学生数学建模竞赛四川省二等奖 | G21: A类，2024年，省级，排名第一，二等奖，3+2+2 | H21: 7
E22: 学科竞赛 | F22: 2024年中国大学生程序设计竞赛（CCPC）金奖 | G22: 学院竞赛目录，2024年，国家级，排名第一，一等奖，4+3 | H22: 7
E23: 荣誉获奖 | F23: 2023至2024学年度本专科生国家奖学金 | G23: 国家级，个人，5 | H23: 5
E24: 外语水平类 | F24: CET六级 465 | H24: 3 | I24: 1
A25: 计算机科学与技术 | B25: 5120220522 | C25: 杨佃文 | D25: 男 | E25: 学科竞赛 | F25: 2025年睿抗机器人开发者大赛(RAICOM)四川赛区三等奖 | G25: C类，2025年，省级，个人，三等奖 3+1 | H25: 4 | J25: 17 | K25: 0 | L25: =MAX($J$2:$J$102) -> 29 | M25: =ROUND(J25/L25*5,3) -> 2.931 | N25: =MAX(K25,M25) -> 2.931
E26: 外语水平类 | F26: CET四级 443 | H26: 2
E27: 专业考试类 | F27: CCF-CSP认证 240 | H27: 1
E28: 学科竞赛 | F28: 第十五届全国大学生数学竞赛二等奖 | H28: 5
E29: 学科竞赛 | F29: 2024年第十四届APMCM亚太地区大学生数学建模竞赛二等奖 | H29: 5
A30: 计算机科学与技术专业 | B30: 5120222627 | C30: 薛思佳 | D30: 女 | E30: 学科竞赛 | F30: 第十二届全国大学生数字媒体科技作品及创意竞赛 全国三等奖 | G30: C类，2024年，国家级，排名第一，三等奖 5+1 | H30: 6 | J30: 21 | K30: 1 | L30: =MAX($J$2:$J$102) -> 29 | M30: =ROUND(J30/L30*5,3) -> 3.621 | N30: =MAX(K30,M30) -> 3.621
E31: 学科竞赛 | F31: 全国大学生数学建模竞赛 四川省二等奖 | G31: A类，2024年，省级，排名第一，二等奖 3+2+2 | H31: 7
E32: 学科竞赛 | F32: 第十五届蓝桥杯全国软件和信息技术专业人才大赛 四川省三等奖 | G32: C类，2024年，省级，个人，三等奖 3+1 | H32: 4
E33: 外语水平类 | F33: CET六级 459 | H33: 3 | I33: 1
E34: 发明专利 | F34: 中华人民共和国国家版权局计算机软件著作权登记证书 2025SR0476562 | G34: 递补计分 | H34: 1
A35: 计算机科学与技术 | B35: 5120217762 | C35: 许芸欣 | D35: 女 | E35: 外语水平类 | F35: 雅思6 | H35: 3 | I35: 1.5 | J35: 22 | K35: 1.5 | L35: =MAX($J$2:$J$102) -> 29 | M35: =ROUND(J35/L35*5,3) -> 3.793 | N35: =MAX(K35,M35) -> 3.793
E36: 学术论文 | F36: EI检索 | H36: 3
E37: 学科竞赛 | F37: 软测四川省一等奖 | G37: 学院推荐竞赛，个人，一等奖3+3 | H37: 6
E38: 学科竞赛 | F38: 华为ict四川省二等奖 | G38: B类，2024，个人，二等奖3+1+2 | H38: 6
E39: 学科竞赛 | F39: 四川省睿抗编程赛省三 | G39: C类，2025，个人，三等奖3+1 | H39: 4
A40: 计算机科学与技术专业 | B40: 5120222952 | C40: 肖诗琪 | D40: 女 | E40: 科技项目 | F40: 2024年四川省大学生创新训练计划项目立项 | G40: 省级，排名第一，4 | H40: 4 | J40: 24 | K40: 0 | L40: =MAX($J$2:$J$102) -> 29 | M40: =ROUND(J40/L40*5,3) -> 4.138 | N40: =MAX(K40,M40) -> 4.138
...

Sheet 软件加分明细
A1: 专业 | B1: 学号 | C1: 姓名 | D1: 性别 | E1: 加分类别 | F1: 加分项 | G1: 备注 | H1: 院级加分分值 | I1: 校级加分分值 | J1: 院级加分总分 | K1: 校级加分总分 | L1: 院级分专业最高分 | M1: 院级折算至5分 | N1: 优先加分项目总分（超出5分记5分）
A2: 软件工程 | B2: 5120225670 | C2: 车欢 | D2: 女 | E2: 学科竞赛 | F2: 第十六届蓝桥杯全国软件和信息技术专业人才大赛四川赛区一等奖 | G2: C类，2025年，省级，个人，一等奖 3+3 | H2: 6 | J2: 22 | K2: 1 | L2: =MAX($J$2:$J$74) -> 32 | M2: =ROUND(J2/L2*5,3) -> 3.438 | N2: =MAX(K2,M2) -> 3.438
E3: 学科竞赛 | F3: 第九届华为ICT大赛实践赛省赛云赛道高教组 省赛二等奖 | G3: B类，2025年，省级，个人，二等奖 1+3+2 | H3: 6
E4: 学科竞赛 | F4: 第五届四川省大学生生物医学工程创新设计大赛 省级二等奖 | G4: C类，2025年，省级，排名第一，二等奖 3+2 | H4: 5
E5: 外语水平类 | F5: CET六级 496 | H5: 3 | I5: 1
E6: 荣誉获奖 | F6: 校级优秀团学干部 | H6: 2
A7: 软件工程 | B7: 5120224776 | C7: 陈语涵 | D7: 女 | E7: 外语水平类 | F7: CET六级 447 | H7: 3 | I7: 1 | J7: 14 | K7: 1 | L7: =MAX($J$2:$J$74) -> 32 | M7: =ROUND(J7/L7*5,3) -> 2.188 | N7: =MAX(K7,M7) -> 2.188
E8: 学科竞赛 | F8: 第二十一届百度之星程序设计大赛初赛（省赛）金奖 | G8: C类，2025年，省级，个人，一等奖 3+3 | H8: 6
E9: 发明专利 | F9: 中华人民共和国 计算机软件著作权登记证书 2025SR0669769 | H9: 1
E10: 荣誉获奖 | F10: 四川省大学生综合素质A级证书 | H10: 4
A11: 软件工程 | B11: 5120222536 | C11: 董鑫 | D11: 女 | E11: 外语水平类 | F11: CET六级 518 | H11: 3 | I11: 1 | J11: 20 | K11: 1 | L11: =MAX($J$2:$J$74) -> 32 | M11: =ROUND(J11/L11*5,3) -> 3.125 | N11: =MAX(K11,M11) -> 3.125
E12: 学科竞赛 | F12: 第十六届蓝桥杯全国软件和信息技术专业人才大赛四川赛区二等奖 | G12: C类，省级，个人，二等奖 3+2 | H12: 5
E13: 学科竞赛 | F13: 第九届华为ICT大赛四川省·实践赛-云赛道三等奖 | G13: B类，省级，个人，三等奖 1+3+1 | H13: 5
E14: 学科竞赛 | F14: 2024年全国大学生软件测试大赛国赛三等奖 | G14: 学院竞赛目录，国家级，个人，三等奖，4+1 | H14: 5
E15: 荣誉获奖 | F15: 2023-2024年西南科技大学三好学生 | H15: 2
A16: 软件工程 | B16: 5120224025 | C16: 黄韵 | D16: 女 | E16: 外语水平类 | F16: CET六级 446 | H16: 3 | I16: 1 | J16: =SUM(H16:H19) -> 14 | K16: 1 | L16: =MAX($J$2:$J$74) -> 32 | M16: =ROUND(J16/L16*5,3) -> 2.188 | N16: =MAX(K16,M16) -> 2.188
E17: 学科竞赛 | F17: 第十六届蓝桥杯全国软件和信息技术专业人才大赛四川赛区二等奖 | G17: C类，2025年，省级，个人，二等奖3+2 | H17: 5
E18: 学科竞赛 | F18: 2025年睿抗机器人开发者大赛(RAICOM)四川赛区三等奖 | G18: C类，2025年，省级，个人，三等奖3+1 | H18: 4
E19: 荣誉获奖 | F19: 西南科技大学三好学生 | G19: 校级 | H19: 2
A20: 软件工程 | B20: 5120222379 | C20: 金叶 | D20: 女 | E20: 外语水平类 | F20: 英语六级 547 | H20: 4 | I20: 1.5 | J20: 8.33 | K20: =SUM(I20:I22) -> 1.5 | L20: =MAX($J$2:$J$74) -> 32 | M20: =ROUND(J20/L20*5,3) -> 1.302 | N20: =MAX(K20,M20) -> 1.5
E21: 学科竞赛 | F21: 中国国际大学生创新比赛省级三等奖，排名3 | G21: A+类竞赛获得省三团队排名第三名，3+3+1;省三只认负责人，校级不加分 | H21: 2.33
E22: 荣誉获奖 | F22: 校级优秀团学干部 | H22: 2
A23: 软件工程 | B23: 5120223646 | C23: 李家豪 | D23: 男 | E23: 学科竞赛 | F23: 四川省国际大学生创新大赛（2025）省银 | G23: A+类，2025年，省级，排名第一，二等奖 3+3+2 | H23: 8 | I23: 1.5 | J23: 22.5 | K23: 1.5 | L23: =MAX($J$2:$J$74) -> 32 | M23: =ROUND(J23/L23*5,3) -> 3.516 | N23: =MAX(K23,M23) -> 3.516
E24: 学科竞赛 | F24: 第十五届蓝桥杯全国软件和信息技术专业人才大赛四川赛区二等奖 | G24: C类，省级，个人，二等奖 3+2 | H24: 5
E25: 学科竞赛 | F25: 四川省大学生人工智能算法精英大赛四川赛区省三等奖 | G25: C类，省级，个人，三等奖 2+2 | H25: 4
E26: 荣誉获奖 | F26: 绵阳市三好学生 | G26: 2025年度，市级，个人 | H26: 3
E27: 科技项目 | F27: 国家级创新创业训练项目 立项（编号：202510619012) | G27: 国家级，第二负责人5/2 | H27: 2.5
A28: 软件工程 | B28: 5120224506 | C28: 李欣珂 | D28: 女 | E28: 外语水平类 | F28: CET六级 464 | H28: 3 | I28: 1 | J28: 20 | K28: 1 | L28: =MAX($J$2:$J$74) -> 32 | M28: =ROUND(J28/L28*5,3) -> 3.125 | N28: =MAX(K28,M28) -> 3.125
E29: 荣誉获奖 | F29: 绵阳市优秀学生干部 | H29: 3
E30: 学科竞赛 | F30: 第十五届蓝桥杯全国软件和信息技术专业人才大赛全国总决赛三等奖 | G30: C类，国家级，个人，三等奖，5+1 | H30: 6
E31: 学科竞赛 | F31: 大学生软件测试大赛四川赛区嵌入式测试个人赛二等奖 | G31: 学院推荐竞赛，省级，个人，二等奖 3+2 | H31: 5
E32: 学科竞赛 | F32: 第19届中国好创意暨全国数字艺术设计大赛四川赛区一等奖 | G32: C类，省级，团队，排名第二，一等奖，0.5*（3+3） | H32: 3
A33: 软件工程 | B33: 5120227615 | C33: 廖青枫 | D33: 男 | E33: 学科竞赛 | F33: 中国高校计算机大赛2024移动应用创行赛西南赛区二等奖 | G33: B类，2024年，省级，团队，排名第一（3+1+2）*1/1 | H33: 6 | J33: 21 | K33: 0 | L33: =MAX($J$2:$J$74) -> 32 | M33: =ROUND(J33/L33*5,3) -> 3.281 | N33: =MAX(K33,M33) -> 3.281
E34: 学科竞赛 | F34: 第十四届蓝桥杯全国软件和信息技术专业人才大赛全国总决赛三等奖 | G34: C类，2023年，国家级，个人，三等奖 5+1 | H34: 6
E35: 学科竞赛 | F35: 第20届百度之星程序设计大赛省赛四川省赛区银奖 | G35: C类，2024年，省级，个人，二等奖 3+2 | H35: 5
E36: 外语水平类 | F36: CET四级 437 | G36: CET四级425 2 | H36: 2
E37: 荣誉获奖 | F37: 西南科技大学优秀团员 | G37: 校级个人荣誉 2 | H37: 2
A38: 软件工程 | B38: 5120223230 | C38: 刘格宁 | D38: 女 | E38: 外语水平类 | F38: CET六级 454 | H38: 3 | I38: 1 | J38: 7 | K38: 1 | L38: =MAX($J$2:$J$74) -> 32 | M38: =ROUND(J38/L38*5,3) -> 1.094 | N38: =MAX(K38,M38) -> 1.094
E39: 学科竞赛 | F39: 第十六届蓝桥杯全国软件和信息技术专业人才大赛四川赛区三等奖 | G39: C类，2025年，省级，个人，三等奖3+1 | H39: 4
A40: 软件工程 | B40: 5120225294 | C40: 唐湘南 | D40: 女 | E40: 专业考试类 | F40: CET6达到425分 | H40: 3 | I40: 1 | J40: =SUM(H40:H43) -> 6.67 | K40: 1 | L40: =MAX($J$2:$J$74) -> 32 | M40: =ROUND(J40/L40*5,3) -> 1.042 | N40: =MAX(K40,M40) -> 1.042
...

Sheet 信安加分明细
A1: 专业 | B1: 学号 | C1: 姓名 | D1: 性别 | E1: 加分类别 | F1: 加分项 | G1: 备注 | H1: 院级加分分值 | I1: 校级加分分值 | J1: 院级加分总分 | K1: 校级加分总分 | L1: 院级分专业最高分 | M1: 院级折算至5分 | N1: 优先加分项目总分（超出5分记5分）
A2: 信息安全 | B2: 5120220844 | C2: 陈嘉俊 | D2: 男 | E2: 外语水平类 | F2: CET六级 465 | H2: 3 | I2: 1 | J2: 19 | K2: 1 | L2: =MAX($J$2:$J$48) -> 24 | M2: =ROUND(J2/L2*5,3) -> 3.958 | N2: =MAX(K2,M2) -> 3.958
E3: 荣誉获奖 | F3: 西南科技大学优秀学生干部 | H3: 2
E4: 学科竞赛 | F4: 第十六届蓝桥杯全国软件和信息技术专业人才大赛四川赛区一等奖 | G4: C类，2025年，省级，个人，一等奖 3+3 | H4: 6
E5: 学科竞赛 | F5: 2025年全国高校商业精英挑战赛创新创业竞赛创业模拟赛道全国总决赛三等奖 | G5: C类，2025年，国家级，排名第三，6*（1/3） | H5: 2
E6: 学科竞赛 | F6: 第九届华为ICT大赛实践赛省赛云赛道高教组二等奖 | G6: B类，2025年，省级，个人，二等奖 3+1+2 | H6: 6
A7: 信息安全 | B7: 5120226402 | C7: 陈可珍 | D7: 女 | E7: 学科竞赛 | F7: 蓝桥杯python程序设计大学生B组四川省赛区一等奖 | G7: C类，2025，省级，个人，一等奖3+3 | H7: 6 | J7: 8 | K7: 0 | L7: =MAX($J$2:$J$48) -> 24 | M7: =ROUND(J7/L7*5,3) -> 1.667 | N7: =MAX(K7,M7) -> 1.667
E8: 外语水平类 | F8: CET四级 448 | H8: 2
A9: 信息安全 | B9: 5120225563 | C9: 何炳樟 | D9: 男 | E9: 外语水平类 | F9: CET六级 435 | H9: 3 | I9: 1 | J9: 5 | K9: 1 | L9: =MAX($J$2:$J$48) -> 24 | M9: =ROUND(J9/L9*5,3) -> 1.042 | N9: =MAX(K9,M9) -> 1.042
E10: 专业考试类 | F10: NISP一级 | G10: 国家信息安全水平证书（一级） 最高3级 | H10: 2
A11: 信息安全 | B11: 5120220288 | C11: 贺彦宁 | D11: 男 | E11: 外语水平类 | F11: CET四级 488 | H11: 2 | J11: 2 | K11: 0 | L11: =MAX($J$2:$J$48) -> 24 | M11: =ROUND(J11/L11*5,3) -> 0.417 | N11: =MAX(K11,M11) -> 0.417
A12: 信息安全 | B12: 5120224373 | C12: 孟思艺 | D12: 女 | E12: 外语水平类 | F12: CET四级 525 | H12: 3 | J12: 15.33 | K12: 0 | L12: =MAX($J$2:$J$48) -> 24 | M12: =ROUND(J12/L12*5,3) -> 3.194 | N12: =MAX(K12,M12) -> 3.194
E13: 学科竞赛 | F13: 第十六届蓝桥杯全国软件和信息技术专业人才大赛四川赛区Python程序设计大学B组二等奖 | G13: C类，2025年，省级，个人，二等奖 3+2 | H13: 5
E14: 学科竞赛 | F14: 第九届华为ICT大赛实践赛省赛云赛道高教组中，荣获三等奖 | G14: B类，2025年，省级，个人，三等奖 3+1+1 | H14: 5
E15: 学科竞赛 | F15: 2024年“安恒杯”四川省信息安全技术大赛表现优异，获得三等奖 | G15: 2024年，省区赛，团队，三等奖 (3+1)/3 | H15: 1.33
E16: 发明专利 | F16: 中华人民共和国 计算机软件著作权登记证书 2025SR0428883 | H16: 1
A17: 信息安全 | B17: 5120220814 | C17: 潘奕裴 | D17: 女 | E17: 学科竞赛 | F17: 2025年第22届全国大学生信息安全与对抗技术竞赛三等奖 | G17: C类，2025年，国家级，排名第二，三等奖 (5+1)*0.5 | H17: 3 | J17: 16 | K17: 1 | L17: =MAX($J$2:$J$48) -> 24 | M17: =ROUND(J17/L17*5,3) -> 3.333 | N17: =MAX(K17,M17) -> 3.333
E18: 学科竞赛 | F18: 2025年睿抗机器人开发者大赛四川赛区编程技能竞赛项目三等奖 | G18: C类，2025年，省级，个人，三等奖 3+1 | H18: 4
E19: 学科竞赛 | F19: 第十六届蓝桥杯全国软件和信息技术专业人才大赛四川赛区网络安全大学组三等奖 | G19: C类，2025年，省级，个人，三等奖 3+1 | H19: 4
E20: 荣誉获奖 | F20: 西南科技大学科技创新奖 | H20: 2
E21: 外语水平类 | F21: CET六级 504 | H21: 3 | I21: 1
A22: 信息安全 | B22: 5120222804 | C22: 邱函 | D22: 女 | E22: 外语水平类 | F22: CET六级 459 | H22: 3 | I22: 1 | J22: 17.5 | K22: 1 | L22: =MAX($J$2:$J$48) -> 24 | M22: =ROUND(J22/L22*5,3) -> 3.646 | N22: =MAX(K22,M22) -> 3.646
E23: 学科竞赛 | F23: 第十六届蓝桥杯全国软件和信息技术专业人才大赛四川赛区二等奖 | G23: C类，2025年，省级，个人，二等奖 3+2 | H23: 5
E24: 学科竞赛 | F24: 2025中国高校计算机大赛网络技术挑战赛西南赛区三等奖 | G24: B类，2025年，省级，团队，排名2，三等奖 （3+1+1）*0.5 | H24: 2.5
E25: 荣誉获奖 | F25: 国家奖学金 | H25: 5
E26: 专业考试类 | F26: 国家信息安全水平证书一级 | H26: 2
A27: 信息安全 | B27: 5120224559 | C27: 苏桐 | D27: 男 | E27: 外语水平类 | F27: CET六级 552 | H27: 4 | I27: 1.5 | J27: 12 | K27: 1.5 | L27: =MAX($J$2:$J$48) -> 24 | M27: =ROUND(J27/L27*5,3) -> 2.5 | N27: =MAX(K27,M27) -> 2.5
E28: 学科竞赛 | F28: 全国大学生英语竞赛三等奖 | G28: C类,2023年,国家级,个人,三等奖 5+1 | H28: 6
E29: 荣誉获奖 | F29: 西南科技大学科技创新奖 | H29: 2
A30: 信息安全 | B30: 5120225484 | C30: 王家乐 | D30: 女 | E30: 外语水平类 | F30: CET六级 467 | H30: 3 | I30: 1 | J30: 19.3 | K30: 1 | L30: =MAX($J$2:$J$48) -> 24 | M30: =ROUND(J30/L30*5,3) -> 4.021 | N30: =MAX(K30,M30) -> 4.021
E31: 荣誉获奖 | F31: 四川省大学生综合素质A级证书 | G31: 省级荣誉 4 | H31: 4
E32: 学科竞赛 | F32: 第十六届蓝桥杯全国软件和信息技术专业人才大赛四川赛区一等奖 | G32: C类，2025年，省级，个人，一等奖 3+3 | H32: 6
E33: 学科竞赛 | F33: 2025睿抗机器人开发者大赛(RAICOM)编程技能赛项四川赛区三等奖 | G33: C类，2025年，省级，个人，三等奖 3+1 | H33: 4
E34: 学科竞赛 | F34: 第十八届“挑战杯”四川省大学生课外学术科技作品竞赛三等奖 | G34: A+类，2025年，省级，排名第三，三等奖（3+3+1）/3 | H34: 2.3
A35: 信息安全 | B35: 5120220374 | C35: 张金玲 | D35: 女 | E35: 外语水平类 | F35: CET四级 529 | H35: 3 | J35: 3 | K35: 0 | L35: =MAX($J$2:$J$48) -> 24 | M35: =ROUND(J35/L35*5,3) -> 0.625 | N35: =MAX(K35,M35) -> 0.625
A36: 信息安全 | B36: 5120220846 | C36: 周宇轩 | D36: 男 | E36: 外语水平类 | F36: CET六级 474 | H36: 3 | I36: 1 | J36: 21 | K36: 1 | L36: =MAX($J$2:$J$48) -> 24 | M36: =ROUND(J36/L36*5,3) -> 4.375 | N36: =MAX(K36,M36) -> 4.375
E37: 学科竞赛 | F37: 第十六届蓝桥杯全国软件和信息技术专业人才大赛国赛区三等奖 | G37: C类，国家级，个人，三等奖 5+1 | H37: 6
E38: 学科竞赛 | F38: 2025年睿抗机器人开发者大赛(RAICOM) 国赛三等奖 | G38: C类，国家级，个人，三等奖 5+1 | H38: 6
E39: 学科竞赛 | F39: 华为ICT大赛2024-2025四川省·实践赛-云赛道 | G39: B类，省级，个人，二等奖 3+2+1 | H39: 6
A40: 信息安全 | B40: 5120224604 | C40: 朱小燕 | D40: 女 | E40: 学科竞赛 | F40: 2025年蓝桥杯全国软件和信息技术专业人才大赛省级二等奖 | G40: c类+省级+二等奖 | H40: 5 | J40: 24 | K40: 0 | L40: =MAX($J$2:$J$48) -> 24 | M40: =ROUND(J40/L40*5,3) -> 5 | N40: =MAX(K40,M40) -> 5
...

Sheet 大数据加分明细
A1: 序号 | B1: 专业 | C1: 学号 | D1: 姓名 | E1: 性别 | F1: 四级成绩 | G1: 加分项 | H1: 加分 | I1: 加分总分（超出5分记5分） | J1: 备注
A2: 1 | B2: 数据科学与大数据技术 | C2: 5120221718 | D2: 张文伟 | E2: 男 | F2: 469 | G2: 1.CET6+达到425分 1 2.2024年全国大学生数学建模竞赛+省级+三等奖（1/3) 1*0.5=0.5 3.主持（1/3）+全国大学生统计建模大赛+省级+一等奖 0.8*0.5=0.4 4.第十六届蓝桥杯全国软件和信息技术专业人才大赛+省级+二等奖 0.6 5.参与（3/4）+全国大学生市场调查与分析大赛+省级+二等奖 1*0.2=0.2 6.2024年第二十一届五一数学建模竞赛+省级+一等奖（1/3）0.6*0.5=0.3 7.2024年第十四届MathorCup杯+省级+二等奖（1/3）0.3*0.5=0.15 8.参与（4/4）+校级+创新基金（JZ23-053）+结题 1*0.1=0.1 9.西南科技大学科技创新奖 0.2 | H2: 3.45 | I2: 3.45 | J2: 文章只有接收证明，未见刊，不符合要求，美国数学建模没在目录中。
A3: 2 | B3: 数据科学与大数据 | C3: 5120222918 | D3: 舒燚希 | E3: 男 | F3: 459 | G3: 1.正大杯第十五届全国大学生市场调查和分析大赛+国家级+一等奖（4/5） 2.5*0.1=0.25 2.2022年全国大学生数学建模竞赛+省级+三等奖（1/3) 0.6*0.5=0.3 3.第十五届蓝桥杯全国软件和信息技术专业人才大赛+省级+一等奖 （1/3) 0.8 4.第十五届全国大学生电工数学建模竞赛 省级+一等奖 （1/3) 0.6*0.5=0.3 5.2023—2024优秀团学干部+校级 0.2 | H3: 1.85 | I3: 1.85 | J3: 第4条：认定为省级，降档后为C类二等奖，认定结果：0.6*0.5=0.3
A4: 3 | B4: 数据科学与大数据技术 | C4: 5120223187 | D4: 黄文静 | E4: 女 | F4: 457 | G4: 1.参与（3/5）+国家级+创新训练项目（202510619012）+立项 1.5*0.2=0.3 2.参与（2/4）+校级+创新基金（JZ25-084）+立项 0.5*0.3=0.15 3.参与（2/3）+校级+创新基金（JZ25-085）+立项 0.5*0.3=0.15 4.参与（4/4）+校级+创新基金（JZ24-052）+结项 1*0.1=0.1 5.第十八届“挑战杯”大学生课外学术科技作品竞赛+省级+特等奖（4/8） 2*0.1=0.2 6.2025年国际大学生创新大赛+省级+铜奖（1/13） 1*0.3=0.3 7.2024年全国大学生数学建模竞赛+省级+二等奖（1/3） 1.5*0.5=0.75 8.2024年第二十一届五一数学建模竞赛+省级+一等奖（1/3） 0.6*0.5=0.3（降档） 9.2025年第十五届MathorCup数学应用挑战赛+省级+二等奖（1/3） 0.3*0.5=0.15（降档） 10.第十四届全国大学生市场调查与分析大赛+省级+二等奖（4/5） 1*0.1=0.1 11.综合素质A级证书 1 12.普通期刊论文2篇 （第一作者） 0.3*2=0.6 | H4: 4.1 | I4: 4.1
A5: 4 | B5: 数据科学与大数据技术 | C5: 5120222455 | D5: 刘增焰 | E5: 女 | F5: 541 | G5: 1.六级：501分 1 | H5: 1 | I5: 1
A6: 5 | B6: 数据科学与大数据技术 | C6: 5120223048 | D6: 王婕 | E6: 女 | F6: 489 | G6: 1.主持（1/4）+国家级+创新训练项目（202410619013）+结题 2*0.4=0.8 2.参与（2/5）+校级+创新训练项目（JZ23-076）+结题 1*0.25=0.25 3.参与（2/4）+校级+创新基金（J225-082）+立项 0.5*0.3=0.15 4.参与（3/4）+校级+创新基金（JZ24-052)）+结题 1*0.2=0.2 5.其它学术论文 第一作者 0.3 6.国家奖学金 1.5 7.2024年全国大学生数学建模竞赛+省级+二等奖（1/3) 1.5*0.5=0.75 8.第九届(2025)全国大学生集成电路创新创业大赛+省级+二等奖（1/3） 1*0.5=0.5 9.2025年全国企业竞争模拟大赛+国家级+二等奖（1/3) 1.5*0.5=0.75 10.2025年iCAN大学生创新创业大赛+省级+三等奖（1/2）0.6*0.6=0.36 11.MathorCup高校数学建模挑战赛+省级+二等奖（1/3）0.3*0.5=0.15 12.CET6 1 | H6: 6.71 | I6: 5
A7: 6 | B7: 数据科学与大数据技术 | C7: 5120221862 | D7: 许王义 | E7: 男 | F7: 435 | G7: 1.参与（3/4）+校级+创新基金（JZ23-053）+结题 1*0.2=0.2 2.参与（2/4）+校级+创新基金（JZ24-052）+结题 1*0.3=0.3 3.参与（3/3）+校级+创新基金（JZ25-085）+立项 0.5*0.2=0.1 4.综合素质A级证书 1 5.2024年全国大学生数学建模竞赛+省级+二等奖（1/3) 1.5*0.5=0.75 6.2024年全国市场调查与分析大赛+省级+二等奖（1/5) 1*0.4=0.4 7.第十六届蓝桥杯全国软件和信息技术专业人才大赛+省级+一等奖 0.8 8.2024年第二十一届五一数学建模竞赛+省级+一等奖（1/3) 降档为省二 0.6*0.5=0.3 9.2024年第十四届MathorCup高校数学建模挑战赛+省级+二等奖（1/3) 降档为省三 0.3*0.5=0.15 | H7: 4 | I7: 4
A8: 7 | B8: 数据科学与大数据技术 | C8: 5120224648 | D8: 岳子谋 | E8: 男 | F8: 512 | G8: 1.雅思6.5分(听力和阅读均为6.5分，写作和口语均为6.0分) 1.5 2.2024年全国大学生数学建模竞赛+省级+一等奖(1/3) 1.8*0.5=0.9 3.2025年第十六届蓝桥杯全国软件和信息技术专业人才大赛+省级+二等奖 0.6 4.2025第十五届正大杯全国大学生市场调查与分析大赛+省级+三等奖(2/3) 0.6*0.3=0.18 5.2025年第十五届MathorCup数学应用挑战赛+省级+二等奖(1/3) 0.3*0.5=0.15 6.2024年全国大学生电工数学建模竞赛+省级+二等奖(1/3) 0.3*0.5=0.15 7.2025年第十一届全国大学生统计建模大赛+省级+三等奖(1/3) 0.3*0.5=0.15 | H8: 3.63 | I8: 3.63
A9: 8 | B9: 数据科学与大数据技术 | C9: 5120225332 | D9: 张中燕 | E9: 女 | F9: 503 | G9: 1.参加（2/4）+国家级+创新训练项目（202410619013）+结题 2*0.3=0.6 2.主持（1/4）+校级+创新基金（JZ25-082）+立项 0.5*0.4=0.2 3.B类学科竞赛+正大杯第十四届全国大学生市场调查与分析大赛+省级+三等奖（1/5) 0.6*0.4=0.24 4.英语六级>425 1 5.综合素质A级证书 1 | H9: 3.04 | I9: 3.04
